BEGIN:VCALENDAR
VERSION:2.0
METHOD:PUBLISH
PRODID:-//Missouri State University/Calendar of Events//EN
CALSCALE:GREGORIAN
X-WR-TIMEZONE:America/Chicago
BEGIN:VTIMEZONE
TZID:America/Chicago
BEGIN:DAYLIGHT
TZOFFSETFROM:-0600
TZOFFSETTO:-0500
DTSTART:20070311T020000
RRULE:FREQ=YEARLY;BYMONTH=3;BYDAY=2SU
TZNAME:CDT
END:DAYLIGHT
BEGIN:STANDARD
TZOFFSETFROM:-0500
TZOFFSETTO:-0600
DTSTART:20071104T020000
RRULE:FREQ=YEARLY;BYMONTH=11;BYDAY=1SU
TZNAME:CST
END:STANDARD
END:VTIMEZONE
BEGIN:VEVENT
UID:408536b2-23d3-40c6-a02d-3104fd8ee777.224290@calendar.missouristate.edu
CREATED:20230127T164238Z
LAST-MODIFIED:20230127T164238Z
LOCATION:Plaster Student Union\, Robert W. MRC Conference Room
SUMMARY:Resume Drop-in: Dress for Success
DESCRIPTION:Join us as Missouri State's Career Center offers advice on you
 r resume for work and/or school while also picking out business casual cl
 othes from the Multicultural Resource Center's closet!
X-ALT-DESC;FMTTYPE=text/html:&lt;html&gt;&lt;head&gt;&lt;title&gt;&lt;/title&gt;&lt;/head&gt;&lt;body&gt;&lt;p&gt;Jo
 in us as Missouri State's Career Center offers advice on your resume for 
 work and/or school while also picking out business casual clothes from th
 e Multicultural Resource Center's closet!&lt;/p&gt;&lt;/body&gt;&lt;/html&gt;
DTSTART;TZID=America/Chicago:20230131T120000
DTEND;TZID=America/Chicago:20230131T140000
SEQUENCE:0
URL:
CATEGORIES:Current Students
END:VEVENT
END:VCALENDAR