BEGIN:VCALENDAR
VERSION:2.0
METHOD:PUBLISH
PRODID:-//Missouri State University/Calendar of Events//EN
CALSCALE:GREGORIAN
X-WR-TIMEZONE:America/Chicago
BEGIN:VTIMEZONE
TZID:America/Chicago
BEGIN:DAYLIGHT
TZOFFSETFROM:-0600
TZOFFSETTO:-0500
DTSTART:20070311T020000
RRULE:FREQ=YEARLY;BYMONTH=3;BYDAY=2SU
TZNAME:CDT
END:DAYLIGHT
BEGIN:STANDARD
TZOFFSETFROM:-0500
TZOFFSETTO:-0600
DTSTART:20071104T020000
RRULE:FREQ=YEARLY;BYMONTH=11;BYDAY=1SU
TZNAME:CST
END:STANDARD
END:VTIMEZONE
BEGIN:VEVENT
UID:81dda42d-a695-4640-ac57-fd4f306cf2af.224291@calendar.missouristate.edu
CREATED:20230126T202640Z
LAST-MODIFIED:20230126T202640Z
LOCATION:
SUMMARY:Academic Advisor Forum: We’re All in This Together: Resources for 
 Transfer Advisors
DESCRIPTION:Presenters: Jaime Ross\, Director\, Transfer Articulation and 
 Nontraditional Student Services\n\n\nCampbell Keele\, coordinator\, Trans
 fer Initiatives\, Academic Advising &amp; Transfer Center\n\n\nDonna Rebmann\
 , MSU/OTC transfer specialist\, Academic Advising &amp; Transfer Center\n\n\n
 Kristen Thomas\, academic advisor\, Education Advisement\n\n\nDarren Wien
 berg\, academic advisor\, Academic Advising &amp; Transfer Center\n\n\nNathan
  Hoff\, Associate Registrar-Degree Programs and Advisor Support\n\n\nAre 
 you an advisor who works with transfer students? You're not alone! Missou
 ri State has transfer advisors all over campus\, with the common goal of 
 providing the best possible assistance to our transfer students. This adv
 isor forum will provide you with points of contact and resources availabl
 e for those who work with transfer students. Resources showcased include 
 2+2 plans\, the Advisors for Transfer Students list\, the Transfer Advisi
 ng Committee\, the MSU Transfer Help Desk\, a demonstration of BEAR PACE\
 , the Transfer Resource PDF and the CORE 42 Resources for Advising.\n\n\n
 Join via Zoom.\n\n\nRegistration is encouraged.
X-ALT-DESC;FMTTYPE=text/html:&lt;html&gt;&lt;head&gt;&lt;title&gt;&lt;/title&gt;&lt;/head&gt;&lt;body&gt;&lt;p&gt;&lt;s
 trong&gt;Presenters: Jaime Ross\, Director\, Transfer Articulation and Nontr
 aditional Student Services&lt;/strong&gt;&lt;/p&gt;\n&lt;p&gt;&lt;strong&gt;Campbell Keele\, coor
 dinator\, Transfer Initiatives\, Academic Advising &amp;amp\; Transfer Center
 &lt;/strong&gt;&lt;/p&gt;\n&lt;p&gt;&lt;strong&gt;Donna Rebmann\, MSU/OTC transfer specialist\, A
 cademic Advising &amp;amp\; Transfer Center&lt;/strong&gt;&lt;/p&gt;\n&lt;p&gt;&lt;strong&gt;Kristen 
 Thomas\, academic advisor\, Education Advisement&lt;/strong&gt;&lt;/p&gt;\n&lt;p&gt;&lt;strong
 &gt;Darren Wienberg\, academic advisor\, Academic Advising &amp;amp\; Transfer C
 enter&lt;/strong&gt;&lt;/p&gt;\n&lt;p&gt;&lt;strong&gt;Nathan Hoff\, Associate Registrar-Degree P
 rograms and Advisor&amp;nbsp\;&lt;/strong&gt;&lt;strong&gt;Support&lt;/strong&gt;&lt;/p&gt;\n&lt;p&gt;Are y
 ou an advisor who works with transfer students? You're not alone! Missour
 i State has transfer advisors all over campus\, with the common goal of p
 roviding the best possible assistance to our transfer students. This advi
 sor forum will provide you with points of contact and resources available
  for those who work with transfer students. Resources showcased include 2
 +2 plans\, the Advisors for Transfer Students list\, the Transfer Advisin
 g Committee\, the MSU Transfer Help Desk\, a demonstration of BEAR PACE\,
  the Transfer Resource PDF and the CORE 42 Resources for Advising.&lt;/p&gt;\n&lt;
 p&gt;&lt;a href="https://missouristate.zoom.us/j/95900467808"&gt;Join via Zoom&lt;/a&gt;
 .&lt;/p&gt;\n&lt;p&gt;Registration is encouraged.&lt;/p&gt;&lt;/body&gt;&lt;/html&gt;
DTSTART;TZID=America/Chicago:20230307T120000
DTEND;TZID=America/Chicago:20230307T130000
SEQUENCE:0
URL:http://www.missouristate.edu/advising/42540.htm
CATEGORIES:Faculty,Staff
END:VEVENT
END:VCALENDAR