BEGIN:VCALENDAR
VERSION:2.0
METHOD:PUBLISH
PRODID:-//Missouri State University/Calendar of Events//EN
CALSCALE:GREGORIAN
X-WR-TIMEZONE:America/Chicago
BEGIN:VTIMEZONE
TZID:America/Chicago
BEGIN:DAYLIGHT
TZOFFSETFROM:-0600
TZOFFSETTO:-0500
DTSTART:20070311T020000
RRULE:FREQ=YEARLY;BYMONTH=3;BYDAY=2SU
TZNAME:CDT
END:DAYLIGHT
BEGIN:STANDARD
TZOFFSETFROM:-0500
TZOFFSETTO:-0600
DTSTART:20071104T020000
RRULE:FREQ=YEARLY;BYMONTH=11;BYDAY=1SU
TZNAME:CST
END:STANDARD
END:VTIMEZONE
BEGIN:VEVENT
UID:1a54d43d-0aac-414e-b28a-a812d2f004b0.224305@calendar.missouristate.edu
CREATED:20230126T202233Z
LAST-MODIFIED:20230126T202233Z
LOCATION:Plaster Student Union\, Robert W. 400 Union Club
SUMMARY:Master Advisor Reception and Naming Ceremony
DESCRIPTION:Come celebrate the 2023 Curtis P. Lawrence Excellence in Advis
 ing Award Winners. Executive Vice President Zora Mulligan\, Provost Dr. J
 ohn Jasinski\, Dr. Kelly Wood\, associate provost for Student Success\, a
 nd Ross Hawkins\, director of the Academic Advising and Transfer Center\,
  will give opening remarks on academic advising and the Master Advisor Pr
 ogram at Missouri State University. \n\n\nThere will also be a naming cer
 emony to recognize advising contributions from Kathy J. Davis. This celeb
 ration is open to all advisors.
X-ALT-DESC;FMTTYPE=text/html:&lt;html&gt;&lt;head&gt;&lt;title&gt;&lt;/title&gt;&lt;/head&gt;&lt;body&gt;&lt;p&gt;&lt;s
 pan&gt;Come celebrate the 2023 Curtis P. Lawrence Excellence in Advising Awa
 rd Winners. Executive Vice President Zora Mulligan\, Provost Dr. John Jas
 inski\, Dr. Kelly Wood\, associate provost for Student Success\, and Ross
  Hawkins\, director of the Academic Advising and Transfer Center\, will g
 ive opening remarks on academic advising and the Master Advisor Program a
 t Missouri State University. &lt;/span&gt;&lt;/p&gt;\n&lt;p&gt;&lt;span&gt;There will also be a n
 aming ceremony to recognize advising contributions from Kathy J. Davis. T
 his celebration is open to all advisors.&lt;/span&gt;&lt;/p&gt;&lt;/body&gt;&lt;/html&gt;
DTSTART;TZID=America/Chicago:20230322T160000
DTEND;TZID=America/Chicago:20230322T170000
SEQUENCE:1
URL:117135.png
CATEGORIES:Faculty,Staff
END:VEVENT
END:VCALENDAR