BEGIN:VCALENDAR
VERSION:2.0
METHOD:PUBLISH
PRODID:-//Missouri State University/Calendar of Events//EN
CALSCALE:GREGORIAN
X-WR-TIMEZONE:America/Chicago
BEGIN:VTIMEZONE
TZID:America/Chicago
BEGIN:DAYLIGHT
TZOFFSETFROM:-0600
TZOFFSETTO:-0500
DTSTART:20070311T020000
RRULE:FREQ=YEARLY;BYMONTH=3;BYDAY=2SU
TZNAME:CDT
END:DAYLIGHT
BEGIN:STANDARD
TZOFFSETFROM:-0500
TZOFFSETTO:-0600
DTSTART:20071104T020000
RRULE:FREQ=YEARLY;BYMONTH=11;BYDAY=1SU
TZNAME:CST
END:STANDARD
END:VTIMEZONE
BEGIN:VEVENT
UID:c261ac9b-b3a6-4fb4-8897-af592e71849d.224306@calendar.missouristate.edu
CREATED:20230126T202142Z
LAST-MODIFIED:20230126T202142Z
LOCATION:Plaster Student Union\, Robert W. 313
SUMMARY:Academic Advisor Forum: The Bridge Between the Divide
DESCRIPTION:Presenters: Dr. Nina Barudzic\, director\, Multicultural Progr
 ams\n\n\nShy Wells\, assistant director\, Multicultural Programs\, LGBTQ+
  Student Services\n\n\nThe presenters will highlight some of the key func
 tions of the MRC\, including its mission\, values and vision. Additionall
 y\, the presenters will inform about the challenges of the MRC\, how does
  the MRC support the mission of the university and its three pillars\, an
 d in which way can others support the space and the students who occupy t
 he space.
X-ALT-DESC;FMTTYPE=text/html:&lt;html&gt;&lt;head&gt;&lt;title&gt;&lt;/title&gt;&lt;/head&gt;&lt;body&gt;&lt;p&gt;&lt;s
 trong&gt;Presenters: Dr. Nina Barudzic\, director\, Multicultural Programs&lt;/
 strong&gt;&lt;/p&gt;\n&lt;p&gt;&lt;strong&gt;Shy Wells\, assistant director\, Multicultural Pr
 ograms\, LGBTQ+ Student Services&lt;/strong&gt;&lt;/p&gt;\n&lt;p&gt;The presenters will hig
 hlight some of the key functions of the MRC\, including its mission\, val
 ues and vision. Additionally\, the presenters will inform about the chall
 enges of the MRC\, how does the MRC support the mission of the university
  and its three pillars\, and in which way can others support the space an
 d the students who occupy the space.&lt;/p&gt;\n&lt;p&gt;&lt;/p&gt;&lt;/body&gt;&lt;/html&gt;
DTSTART;TZID=America/Chicago:20230503T120000
DTEND;TZID=America/Chicago:20230503T130000
SEQUENCE:0
URL:http://www.missouristate.edu/advising/42540.htm
CATEGORIES:Faculty,Staff
END:VEVENT
END:VCALENDAR