BEGIN:VCALENDAR
VERSION:2.0
METHOD:PUBLISH
PRODID:-//Missouri State University/Calendar of Events//EN
CALSCALE:GREGORIAN
X-WR-TIMEZONE:America/Chicago
BEGIN:VTIMEZONE
TZID:America/Chicago
BEGIN:DAYLIGHT
TZOFFSETFROM:-0600
TZOFFSETTO:-0500
DTSTART:20070311T020000
RRULE:FREQ=YEARLY;BYMONTH=3;BYDAY=2SU
TZNAME:CDT
END:DAYLIGHT
BEGIN:STANDARD
TZOFFSETFROM:-0500
TZOFFSETTO:-0600
DTSTART:20071104T020000
RRULE:FREQ=YEARLY;BYMONTH=11;BYDAY=1SU
TZNAME:CST
END:STANDARD
END:VTIMEZONE
BEGIN:VEVENT
UID:a577ba9d-cd56-45db-a394-2e97dfae512d.224321@calendar.missouristate.edu
CREATED:20230130T232317Z
LAST-MODIFIED:20230130T232317Z
LOCATION:
SUMMARY:Effective Listening Virtual Workshop (Rescheduled from 1/25/23)
DESCRIPTION:We have one mouth and two ears—that suggests we should listen 
 more than we talk! Most of us think we are good listeners\, but the resea
 rch suggests otherwise. And yet\, good listeners have deeper\, stronger a
 nd better relationships at work\, at home and with friends. This workshop
  will explain why listening is important\, help you figure out what type 
 of listener you are\, and teach you the necessary skills to become a more
  effective listener.\n\n\nThis two-hour workshop is facilitated by Gloria
  Galanes\, MSU dean emeritus\, and complements the Communication Basics w
 orkshop.
X-ALT-DESC;FMTTYPE=text/html:&lt;html&gt;&lt;head&gt;&lt;title&gt;&lt;/title&gt;&lt;/head&gt;&lt;body&gt;&lt;p&gt;We
  have one mouth and two ears—that suggests we should listen more than we 
 talk! Most of us think we are good listeners\, but the research suggests 
 otherwise. And yet\, good listeners have deeper\, stronger and better rel
 ationships at work\, at home and with friends. This workshop will explain
  why listening is important\, help you figure out what type of listener y
 ou are\, and teach you the necessary skills to become a more effective li
 stener.&lt;/p&gt;\n&lt;p&gt;This two-hour workshop is facilitated by Gloria Galanes\,
  MSU dean emeritus\, and complements the Communication Basics workshop.&lt;/
 p&gt;&lt;/body&gt;&lt;/html&gt;
DTSTART;TZID=America/Chicago:20230223T140000
DTEND;TZID=America/Chicago:20230223T160000
SEQUENCE:0
URL:https://blogs.missouristate.edu/human/
CATEGORIES:Faculty,Staff
END:VEVENT
END:VCALENDAR