BEGIN:VCALENDAR
VERSION:2.0
METHOD:PUBLISH
PRODID:-//Missouri State University/Calendar of Events//EN
CALSCALE:GREGORIAN
X-WR-TIMEZONE:America/Chicago
BEGIN:VTIMEZONE
TZID:America/Chicago
BEGIN:DAYLIGHT
TZOFFSETFROM:-0600
TZOFFSETTO:-0500
DTSTART:20070311T020000
RRULE:FREQ=YEARLY;BYMONTH=3;BYDAY=2SU
TZNAME:CDT
END:DAYLIGHT
BEGIN:STANDARD
TZOFFSETFROM:-0500
TZOFFSETTO:-0600
DTSTART:20071104T020000
RRULE:FREQ=YEARLY;BYMONTH=11;BYDAY=1SU
TZNAME:CST
END:STANDARD
END:VTIMEZONE
BEGIN:VEVENT
UID:04235ddf-e817-4981-9988-292b275847e9.225323@calendar.missouristate.edu
CREATED:20230127T164112Z
LAST-MODIFIED:20230127T164112Z
LOCATION:Plaster Student Union\, Robert W. MRC 101
SUMMARY:LinkedIn Workshop
DESCRIPTION:Join us as Missouri State's Career Center gives feedback and a
 dvice for your LinkedIn accounts!
X-ALT-DESC;FMTTYPE=text/html:&lt;html&gt;&lt;head&gt;&lt;title&gt;&lt;/title&gt;&lt;/head&gt;&lt;body&gt;&lt;p&gt;Jo
 in us as Missouri State's Career Center gives feedback and advice for you
 r LinkedIn accounts!&lt;/p&gt;&lt;/body&gt;&lt;/html&gt;
DTSTART;TZID=America/Chicago:20230201T140000
DTEND;TZID=America/Chicago:20230201T144500
SEQUENCE:0
URL:https://calendar.missouristate.edu/viewevent.aspx?eventid=117141&amp;occur
 renceid=225323
CATEGORIES:Current Students
END:VEVENT
END:VCALENDAR