BEGIN:VCALENDAR
VERSION:2.0
METHOD:PUBLISH
PRODID:-//Missouri State University/Calendar of Events//EN
CALSCALE:GREGORIAN
X-WR-TIMEZONE:America/Chicago
BEGIN:VTIMEZONE
TZID:America/Chicago
BEGIN:DAYLIGHT
TZOFFSETFROM:-0600
TZOFFSETTO:-0500
DTSTART:20070311T020000
RRULE:FREQ=YEARLY;BYMONTH=3;BYDAY=2SU
TZNAME:CDT
END:DAYLIGHT
BEGIN:STANDARD
TZOFFSETFROM:-0500
TZOFFSETTO:-0600
DTSTART:20071104T020000
RRULE:FREQ=YEARLY;BYMONTH=11;BYDAY=1SU
TZNAME:CST
END:STANDARD
END:VTIMEZONE
BEGIN:VEVENT
UID:77c07615-795e-40ac-805f-e51aaa02cdf1.225326@calendar.missouristate.edu
CREATED:20230127T164251Z
LAST-MODIFIED:20230127T164251Z
LOCATION:Plaster Student Union\, Robert W. MRC 101
SUMMARY:Handshake/Portfolio Workshop
DESCRIPTION:Join us as the Career Center offers tips and advice on how to 
 create a professional portfolio and Handshake account. Handshake is for M
 issouri State students and alumni to find jobs\, internships\, and attend
  events.
X-ALT-DESC;FMTTYPE=text/html:&lt;html&gt;&lt;head&gt;&lt;title&gt;&lt;/title&gt;&lt;/head&gt;&lt;body&gt;&lt;p&gt;Jo
 in us as the Career Center offers tips and advice on how to create a prof
 essional portfolio and Handshake account. Handshake is for Missouri State
  students and alumni to find jobs\, internships\, and attend events.&lt;/p&gt;&lt;
 /body&gt;&lt;/html&gt;
DTSTART;TZID=America/Chicago:20230202T130000
DTEND;TZID=America/Chicago:20230202T133000
SEQUENCE:0
URL:https://calendar.missouristate.edu/viewevent.aspx?eventid=117144&amp;occur
 renceid=225326
CATEGORIES:Current Students
END:VEVENT
END:VCALENDAR