BEGIN:VCALENDAR
VERSION:2.0
METHOD:PUBLISH
PRODID:-//Missouri State University/Calendar of Events//EN
CALSCALE:GREGORIAN
X-WR-TIMEZONE:America/Chicago
BEGIN:VTIMEZONE
TZID:America/Chicago
BEGIN:DAYLIGHT
TZOFFSETFROM:-0600
TZOFFSETTO:-0500
DTSTART:20070311T020000
RRULE:FREQ=YEARLY;BYMONTH=3;BYDAY=2SU
TZNAME:CDT
END:DAYLIGHT
BEGIN:STANDARD
TZOFFSETFROM:-0500
TZOFFSETTO:-0600
DTSTART:20071104T020000
RRULE:FREQ=YEARLY;BYMONTH=11;BYDAY=1SU
TZNAME:CST
END:STANDARD
END:VTIMEZONE
BEGIN:VEVENT
UID:0a46c5bd-85fe-4ed5-9a93-1e7705afddfe.225327@calendar.missouristate.edu
CREATED:20230131T022647Z
LAST-MODIFIED:20230131T022647Z
LOCATION:Plaster Student Union\, Robert W. PSU Theater
SUMMARY:Black History Month Speaker w/SAC
DESCRIPTION:Lets celebrate Black History Month! Join Student Activities Co
 uncil and Multicultural Resource Center as we listen to two-time New York
  Times bestselling author\, Frederick Joseph.\n\n\nThere will be free chi
 cken tenders with macaroni and cheese\, a social media giveaway and a cha
 nce to win one of his books!
X-ALT-DESC;FMTTYPE=text/html:&lt;html&gt;&lt;head&gt;&lt;title&gt;&lt;/title&gt;&lt;/head&gt;&lt;body&gt;&lt;p&gt;Le
 ts celebrate Black History Month! Join Student Activities Council and Mul
 ticultural Resource Center as we listen to two-time New York Times bestse
 lling author\, Frederick Joseph.&lt;/p&gt;\n&lt;p&gt;There will be free chicken tende
 rs with macaroni and cheese\, a social media giveaway and a chance to win
  one of his books!&lt;/p&gt;&lt;/body&gt;&lt;/html&gt;
DTSTART;TZID=America/Chicago:20230207T190000
DTEND;TZID=America/Chicago:20230207T200000
SEQUENCE:0
URL:117145.jpg
CATEGORIES:Public,Current Students,Faculty,Staff
END:VEVENT
END:VCALENDAR