BEGIN:VCALENDAR
VERSION:2.0
METHOD:PUBLISH
PRODID:-//Missouri State University/Calendar of Events//EN
CALSCALE:GREGORIAN
X-WR-TIMEZONE:America/Chicago
BEGIN:VTIMEZONE
TZID:America/Chicago
BEGIN:DAYLIGHT
TZOFFSETFROM:-0600
TZOFFSETTO:-0500
DTSTART:20070311T020000
RRULE:FREQ=YEARLY;BYMONTH=3;BYDAY=2SU
TZNAME:CDT
END:DAYLIGHT
BEGIN:STANDARD
TZOFFSETFROM:-0500
TZOFFSETTO:-0600
DTSTART:20071104T020000
RRULE:FREQ=YEARLY;BYMONTH=11;BYDAY=1SU
TZNAME:CST
END:STANDARD
END:VTIMEZONE
BEGIN:VEVENT
UID:9454ef55-a2f1-4ae4-be06-06fbd6676cc7.225329@calendar.missouristate.edu
CREATED:20230127T172705Z
LAST-MODIFIED:20230127T172705Z
LOCATION:Plaster Student Union\, Robert W. MRC 101
SUMMARY:Tuesday Talk: Black Love
DESCRIPTION:Tuesday Talk is a program created by Multicultural Programs wh
 ere casual and open discussions occur. This month we will discuss experie
 nces and feelings surrounding Black love. 
X-ALT-DESC;FMTTYPE=text/html:&lt;html&gt;&lt;head&gt;&lt;title&gt;&lt;/title&gt;&lt;/head&gt;&lt;body&gt;&lt;p&gt;Tu
 esday Talk is a program created by Multicultural Programs where casual an
 d open discussions occur. This month we will discuss experiences and feel
 ings surrounding Black love.&amp;nbsp\;&lt;/p&gt;&lt;/body&gt;&lt;/html&gt;
DTSTART;TZID=America/Chicago:20230214T140000
DTEND;TZID=America/Chicago:20230214T150000
SEQUENCE:0
URL:
CATEGORIES:Current Students
END:VEVENT
END:VCALENDAR