BEGIN:VCALENDAR
VERSION:2.0
METHOD:PUBLISH
PRODID:-//Missouri State University/Calendar of Events//EN
CALSCALE:GREGORIAN
X-WR-TIMEZONE:America/Chicago
BEGIN:VTIMEZONE
TZID:America/Chicago
BEGIN:DAYLIGHT
TZOFFSETFROM:-0600
TZOFFSETTO:-0500
DTSTART:20070311T020000
RRULE:FREQ=YEARLY;BYMONTH=3;BYDAY=2SU
TZNAME:CDT
END:DAYLIGHT
BEGIN:STANDARD
TZOFFSETFROM:-0500
TZOFFSETTO:-0600
DTSTART:20071104T020000
RRULE:FREQ=YEARLY;BYMONTH=11;BYDAY=1SU
TZNAME:CST
END:STANDARD
END:VTIMEZONE
BEGIN:VEVENT
UID:3236bc72-1f57-496f-bd28-1c29d5df5f59.225331@calendar.missouristate.edu
CREATED:20230127T170648Z
LAST-MODIFIED:20230127T170648Z
LOCATION:Plaster Student Union\, Robert W. MRC 101
SUMMARY:Workshop: Aromantic Spectrum Awareness Week
DESCRIPTION:Join to hear Missouri State's students experiences on identify
 ing as aromantic during Aromantic Spectrum Awareness Week (Feb 19- Feb 25
 ).
X-ALT-DESC;FMTTYPE=text/html:&lt;html&gt;&lt;head&gt;&lt;title&gt;&lt;/title&gt;&lt;/head&gt;&lt;body&gt;&lt;p&gt;Jo
 in to hear Missouri State's students experiences on identifying as aroman
 tic during Aromantic Spectrum Awareness Week (Feb 19- Feb 25).&lt;/p&gt;&lt;/body&gt;
 &lt;/html&gt;
DTSTART;TZID=America/Chicago:20230217T170000
DTEND;TZID=America/Chicago:20230217T183000
SEQUENCE:0
URL:117149.png
CATEGORIES:Current Students
END:VEVENT
END:VCALENDAR