BEGIN:VCALENDAR
VERSION:2.0
METHOD:PUBLISH
PRODID:-//Missouri State University/Calendar of Events//EN
CALSCALE:GREGORIAN
X-WR-TIMEZONE:America/Chicago
BEGIN:VTIMEZONE
TZID:America/Chicago
BEGIN:DAYLIGHT
TZOFFSETFROM:-0600
TZOFFSETTO:-0500
DTSTART:20070311T020000
RRULE:FREQ=YEARLY;BYMONTH=3;BYDAY=2SU
TZNAME:CDT
END:DAYLIGHT
BEGIN:STANDARD
TZOFFSETFROM:-0500
TZOFFSETTO:-0600
DTSTART:20071104T020000
RRULE:FREQ=YEARLY;BYMONTH=11;BYDAY=1SU
TZNAME:CST
END:STANDARD
END:VTIMEZONE
BEGIN:VEVENT
UID:12909ba6-e1da-4236-becc-883394da2b7f.225332@calendar.missouristate.edu
CREATED:20230127T171510Z
LAST-MODIFIED:20230127T171510Z
LOCATION:Plaster Student Union\, Robert W. MRC 101
SUMMARY:Tote Bags History &amp; Painting
DESCRIPTION:Lets get crafty and paint tote bags! Come hear about the histo
 ry of tote bags from sustainability to functionality\, and then go home w
 ith your own cute bag!
X-ALT-DESC;FMTTYPE=text/html:&lt;html&gt;&lt;head&gt;&lt;title&gt;&lt;/title&gt;&lt;/head&gt;&lt;body&gt;&lt;p&gt;Le
 ts get crafty and paint tote bags! Come hear about the history of tote ba
 gs from sustainability to functionality\, and then go home with your own 
 cute bag!&lt;/p&gt;&lt;/body&gt;&lt;/html&gt;
DTSTART;TZID=America/Chicago:20230301T140000
DTEND;TZID=America/Chicago:20230301T160000
SEQUENCE:0
URL:https://calendar.missouristate.edu/viewevent.aspx?eventid=117150&amp;occur
 renceid=225332
CATEGORIES:Current Students
END:VEVENT
END:VCALENDAR