BEGIN:VCALENDAR
VERSION:2.0
METHOD:PUBLISH
PRODID:-//Missouri State University/Calendar of Events//EN
CALSCALE:GREGORIAN
X-WR-TIMEZONE:America/Chicago
BEGIN:VTIMEZONE
TZID:America/Chicago
BEGIN:DAYLIGHT
TZOFFSETFROM:-0600
TZOFFSETTO:-0500
DTSTART:20070311T020000
RRULE:FREQ=YEARLY;BYMONTH=3;BYDAY=2SU
TZNAME:CDT
END:DAYLIGHT
BEGIN:STANDARD
TZOFFSETFROM:-0500
TZOFFSETTO:-0600
DTSTART:20071104T020000
RRULE:FREQ=YEARLY;BYMONTH=11;BYDAY=1SU
TZNAME:CST
END:STANDARD
END:VTIMEZONE
BEGIN:VEVENT
UID:2bcb5797-ca3c-4b93-8837-6d56feed6472.225336@calendar.missouristate.edu
CREATED:20230127T174635Z
LAST-MODIFIED:20230127T174635Z
LOCATION:Plaster Student Union\, Robert W. PSU Theater
SUMMARY:Women's History Month Speaker w/SAC
DESCRIPTION:Celebrate Women's History Month with Student Activities Counci
 l (SAC)!Our guest speaker is Dessa\, a singer\, rapper and writer.\n\n\nE
 njoy free food and a prize drawing for amazing prizes\, such as a famous 
 women leaders poster\, a makeup bag and a vintage portable bluetooth spea
 ker.
X-ALT-DESC;FMTTYPE=text/html:&lt;html&gt;&lt;head&gt;&lt;title&gt;&lt;/title&gt;&lt;/head&gt;&lt;body&gt;&lt;dl&gt;&lt;
 dd&gt;&lt;/dd&gt;&lt;/dl&gt;\n&lt;p&gt;Celebrate Women's History Month with Student Activities
  Council (SAC)!&lt;br&gt;&lt;br&gt;Our guest speaker is Dessa\, a singer\, rapper and
  writer.&lt;/p&gt;\n&lt;p&gt;Enjoy free food and a prize drawing for amazing prizes\,
  such as a famous women leaders poster\, a makeup bag and a vintage porta
 ble bluetooth speaker.&lt;/p&gt;&lt;/body&gt;&lt;/html&gt;
DTSTART;TZID=America/Chicago:20230321T190000
DTEND;TZID=America/Chicago:20230321T200000
SEQUENCE:0
URL:117154.jpg
CATEGORIES:Public,Current Students,Faculty,Staff
END:VEVENT
END:VCALENDAR