BEGIN:VCALENDAR
VERSION:2.0
METHOD:PUBLISH
PRODID:-//Missouri State University/Calendar of Events//EN
CALSCALE:GREGORIAN
X-WR-TIMEZONE:America/Chicago
BEGIN:VTIMEZONE
TZID:America/Chicago
BEGIN:DAYLIGHT
TZOFFSETFROM:-0600
TZOFFSETTO:-0500
DTSTART:20070311T020000
RRULE:FREQ=YEARLY;BYMONTH=3;BYDAY=2SU
TZNAME:CDT
END:DAYLIGHT
BEGIN:STANDARD
TZOFFSETFROM:-0500
TZOFFSETTO:-0600
DTSTART:20071104T020000
RRULE:FREQ=YEARLY;BYMONTH=11;BYDAY=1SU
TZNAME:CST
END:STANDARD
END:VTIMEZONE
BEGIN:VEVENT
UID:523d5d35-6942-49b0-b2a4-49b3981e9473.225337@calendar.missouristate.edu
CREATED:20230127T174609Z
LAST-MODIFIED:20230127T174609Z
LOCATION:Plaster Student Union\, Robert W. MRC 101
SUMMARY:Tuesday Talk: Feminism v. Womanism
DESCRIPTION:Tuesday Talk is a program created by the Multicultural Resourc
 e Center to facilitate a casual\, educational\, and fun conversation. Joi
 n us as we discuss the difference between feminism and womanism!
X-ALT-DESC;FMTTYPE=text/html:&lt;html&gt;&lt;head&gt;&lt;title&gt;&lt;/title&gt;&lt;/head&gt;&lt;body&gt;&lt;p&gt;Tu
 esday Talk is a program created by the Multicultural Resource Center to f
 acilitate a casual\, educational\, and fun conversation. Join us as we di
 scuss the difference between feminism and womanism!&lt;/p&gt;&lt;/body&gt;&lt;/html&gt;
DTSTART;TZID=America/Chicago:20230328T140000
DTEND;TZID=America/Chicago:20230328T150000
SEQUENCE:0
URL:
CATEGORIES:Current Students
END:VEVENT
END:VCALENDAR