BEGIN:VCALENDAR
VERSION:2.0
METHOD:PUBLISH
PRODID:-//Missouri State University/Calendar of Events//EN
CALSCALE:GREGORIAN
X-WR-TIMEZONE:America/Chicago
BEGIN:VTIMEZONE
TZID:America/Chicago
BEGIN:DAYLIGHT
TZOFFSETFROM:-0600
TZOFFSETTO:-0500
DTSTART:20070311T020000
RRULE:FREQ=YEARLY;BYMONTH=3;BYDAY=2SU
TZNAME:CDT
END:DAYLIGHT
BEGIN:STANDARD
TZOFFSETFROM:-0500
TZOFFSETTO:-0600
DTSTART:20071104T020000
RRULE:FREQ=YEARLY;BYMONTH=11;BYDAY=1SU
TZNAME:CST
END:STANDARD
END:VTIMEZONE
BEGIN:VEVENT
UID:9d4e1fba-c0c4-4ae6-80eb-f97c74221dc7.225338@calendar.missouristate.edu
CREATED:20230127T174621Z
LAST-MODIFIED:20230127T174621Z
LOCATION:Plaster Student Union\, Robert W. MRC 101
SUMMARY:Black &amp; LGBTQ+ Exhibition
DESCRIPTION:Come by and see art created by our own Black and queer Missour
 i State students!
X-ALT-DESC;FMTTYPE=text/html:&lt;html&gt;&lt;head&gt;&lt;title&gt;&lt;/title&gt;&lt;/head&gt;&lt;body&gt;&lt;p&gt;Co
 me by and see art created by our own Black and queer Missouri State stude
 nts!&lt;/p&gt;&lt;/body&gt;&lt;/html&gt;
DTSTART;VALUE=DATE:20230331
DTEND;VALUE=DATE:20230401
SEQUENCE:0
URL:https://calendar.missouristate.edu/viewevent.aspx?eventid=117156&amp;occur
 renceid=225338
CATEGORIES:Public,Current Students,Faculty,Staff
END:VEVENT
END:VCALENDAR