BEGIN:VCALENDAR
VERSION:2.0
METHOD:PUBLISH
PRODID:-//Missouri State University/Calendar of Events//EN
CALSCALE:GREGORIAN
X-WR-TIMEZONE:America/Chicago
BEGIN:VTIMEZONE
TZID:America/Chicago
BEGIN:DAYLIGHT
TZOFFSETFROM:-0600
TZOFFSETTO:-0500
DTSTART:20070311T020000
RRULE:FREQ=YEARLY;BYMONTH=3;BYDAY=2SU
TZNAME:CDT
END:DAYLIGHT
BEGIN:STANDARD
TZOFFSETFROM:-0500
TZOFFSETTO:-0600
DTSTART:20071104T020000
RRULE:FREQ=YEARLY;BYMONTH=11;BYDAY=1SU
TZNAME:CST
END:STANDARD
END:VTIMEZONE
BEGIN:VEVENT
UID:810a12a3-42b6-4f29-a6c3-1420b79c1026.225339@calendar.missouristate.edu
CREATED:20230130T153101Z
LAST-MODIFIED:20230130T153101Z
LOCATION:Plaster Student Union\, Robert W. Theater
SUMMARY:Black History Month Speaker
DESCRIPTION:Join SAC and the MRC to listen to our Black History Month spea
 ker\, Frederick Joseph\, who is a two-time New York Times best-selling au
 thor. \n\n\nHe will speak and then there will be a 30-minute Q &amp; A. Free 
 chicken tenders and mac and cheese! 
X-ALT-DESC;FMTTYPE=text/html:&lt;html&gt;&lt;head&gt;&lt;title&gt;&lt;/title&gt;&lt;/head&gt;&lt;body&gt;&lt;p&gt;&lt;s
 pan&gt;Join SAC and the MRC to listen to our Black History Month speaker\, F
 rederick Joseph\, who is a two-time New York Times best-selling author. &lt;
 /span&gt;&lt;/p&gt;\n&lt;p&gt;&lt;span&gt;He will speak and then there will be a 30-minute Q &amp;
 amp\; A. Free chicken tenders and mac and cheese!&amp;nbsp\;&lt;/span&gt;&lt;/p&gt;&lt;/body
 &gt;&lt;/html&gt;
DTSTART;TZID=America/Chicago:20230207T190000
DTEND;TZID=America/Chicago:20230207T200000
SEQUENCE:0
URL:
CATEGORIES:Current Students,Faculty,Staff
END:VEVENT
END:VCALENDAR