BEGIN:VCALENDAR
VERSION:2.0
METHOD:PUBLISH
PRODID:-//Missouri State University/Calendar of Events//EN
CALSCALE:GREGORIAN
X-WR-TIMEZONE:America/Chicago
BEGIN:VTIMEZONE
TZID:America/Chicago
BEGIN:DAYLIGHT
TZOFFSETFROM:-0600
TZOFFSETTO:-0500
DTSTART:20070311T020000
RRULE:FREQ=YEARLY;BYMONTH=3;BYDAY=2SU
TZNAME:CDT
END:DAYLIGHT
BEGIN:STANDARD
TZOFFSETFROM:-0500
TZOFFSETTO:-0600
DTSTART:20071104T020000
RRULE:FREQ=YEARLY;BYMONTH=11;BYDAY=1SU
TZNAME:CST
END:STANDARD
END:VTIMEZONE
BEGIN:VEVENT
UID:59cef244-6ab0-4f9d-a3bf-e09b82523e20.225340@calendar.missouristate.edu
CREATED:20230223T155203Z
LAST-MODIFIED:20230223T155203Z
LOCATION:Roy Blunt Hall 345
SUMMARY:GGP Seminar: Molly Starkey - “The Missouri Geological Survey at 17
 0: How We Got Here and Where We’re Going”
DESCRIPTION:Molly Starkey\, R.G. (MO)\, geologist with the Missouri Depart
 ment of Natural Resources\, will present.\n\n\nShe's an MSU alumna (MS 20
 11\, BS 2009\, geology).
X-ALT-DESC;FMTTYPE=text/html:&lt;html&gt;&lt;head&gt;&lt;title&gt;&lt;/title&gt;&lt;/head&gt;&lt;body&gt;&lt;p&gt;Mo
 lly Starkey\, R.G. (MO)\, geologist with the Missouri Department of Natur
 al Resources\, will present.&lt;/p&gt;\n&lt;p&gt;She's an MSU alumna (MS 2011\, BS 20
 09\, geology).&lt;/p&gt;&lt;/body&gt;&lt;/html&gt;
DTSTART;TZID=America/Chicago:20230224T143000
DTEND;TZID=America/Chicago:20230224T153000
SEQUENCE:0
URL:http://www.geosciences.MissouriState.edu
CATEGORIES:Public,Alumni,Current Students,Faculty,Future Students
END:VEVENT
END:VCALENDAR