BEGIN:VCALENDAR
VERSION:2.0
METHOD:PUBLISH
PRODID:-//Missouri State University/Calendar of Events//EN
CALSCALE:GREGORIAN
X-WR-TIMEZONE:America/Chicago
BEGIN:VTIMEZONE
TZID:America/Chicago
BEGIN:DAYLIGHT
TZOFFSETFROM:-0600
TZOFFSETTO:-0500
DTSTART:20070311T020000
RRULE:FREQ=YEARLY;BYMONTH=3;BYDAY=2SU
TZNAME:CDT
END:DAYLIGHT
BEGIN:STANDARD
TZOFFSETFROM:-0500
TZOFFSETTO:-0600
DTSTART:20071104T020000
RRULE:FREQ=YEARLY;BYMONTH=11;BYDAY=1SU
TZNAME:CST
END:STANDARD
END:VTIMEZONE
BEGIN:VEVENT
UID:00000000-0000-0000-0000-000000000000.225342@calendar.missouristate.edu
CREATED:20230130T164929Z
LAST-MODIFIED:20230130T164929Z
LOCATION:To Be Determined
SUMMARY:Missouri State Football Luncheon
DESCRIPTION:Meet Coach Ryan Beard and hear from the rest of the Missouri S
 tate Bears Football staff about the upcoming season\, new recruits and mo
 re! Lunch included\, $5 per person. 
X-ALT-DESC;FMTTYPE=text/html:&lt;html&gt;&lt;head&gt;&lt;title&gt;&lt;/title&gt;&lt;/head&gt;&lt;body&gt;&lt;p&gt;Me
 et Coach Ryan Beard and hear from the rest of the Missouri State Bears Fo
 otball staff about the upcoming season\, new recruits and more! Lunch inc
 luded\, $5 per person.&amp;nbsp\;&lt;br&gt;\n&lt;/p&gt;&lt;/body&gt;&lt;/html&gt;
DTSTART;TZID=America/Chicago:20230202T113000
DTEND;TZID=America/Chicago:20230202T133000
SEQUENCE:0
URL:https://missouristate.imodules.com?sid=1691&amp;gid=2&amp;pgid=3039&amp;cid=5328&amp;e
 cid=5328&amp;ciid=17790&amp;crid=0
CATEGORIES:Public,Alumni,Parents and Family,Visitors
END:VEVENT
END:VCALENDAR