BEGIN:VCALENDAR
VERSION:2.0
METHOD:PUBLISH
PRODID:-//Missouri State University/Calendar of Events//EN
CALSCALE:GREGORIAN
X-WR-TIMEZONE:America/Chicago
BEGIN:VTIMEZONE
TZID:America/Chicago
BEGIN:DAYLIGHT
TZOFFSETFROM:-0600
TZOFFSETTO:-0500
DTSTART:20070311T020000
RRULE:FREQ=YEARLY;BYMONTH=3;BYDAY=2SU
TZNAME:CDT
END:DAYLIGHT
BEGIN:STANDARD
TZOFFSETFROM:-0500
TZOFFSETTO:-0600
DTSTART:20071104T020000
RRULE:FREQ=YEARLY;BYMONTH=11;BYDAY=1SU
TZNAME:CST
END:STANDARD
END:VTIMEZONE
BEGIN:VEVENT
UID:fd7469f3-1698-4d0a-a5f7-361dd30c9204.225349@calendar.missouristate.edu
CREATED:20230203T141244Z
LAST-MODIFIED:20230203T141244Z
LOCATION:Morris Center\, Jim D.
SUMMARY:Brazilian Culture Night : Festa Junina 
DESCRIPTION:Come and Join us in learning about one of the largest festival
 s in Brazil: June Festival or Festa Junina. A midsummer celebration of sa
 ints. Introduced to Brazil from Portugal over 200 years ago\, it became o
 ne of the largest cultural festivals to celebrate\, dance\, eat\, and gat
 her with good friends and family members. \n\n\nEnjoy an evening full of 
 food\, dance\, music\, and crafts hosted by a visiting group of teachers 
 from Brazil!\n\n\n\n\n\nJoin us in the Jim D. Morris Center from 6:00 - 8
 :30 pm 
X-ALT-DESC;FMTTYPE=text/html:&lt;html&gt;&lt;head&gt;&lt;title&gt;&lt;/title&gt;&lt;/head&gt;&lt;body&gt;&lt;p&gt;Co
 me and Join us in learning about one of the largest festivals in Brazil:&amp;
 nbsp\;&lt;span&gt;&lt;em&gt;&lt;/em&gt;&lt;/span&gt;&lt;span&gt;&lt;strong&gt;June Festival&lt;/strong&gt;&lt;/span&gt;&lt;s
 trong&gt;&amp;nbsp\;&lt;/strong&gt;or&amp;nbsp\;&lt;span&gt;&lt;strong&gt;Festa Junina.&lt;/strong&gt;&lt;/span
 &gt;&lt;strong&gt;&lt;/strong&gt; A midsummer celebration of saints. Introduced to Brazi
 l from Portugal over 200 years ago\, it became&amp;nbsp\;one of the largest c
 ultural festivals to celebrate\, dance\, eat\, and gather with good frien
 ds and family members.&amp;nbsp\;&lt;/p&gt;\n&lt;p&gt;Enjoy an evening full of food\, dan
 ce\, music\, and crafts hosted by a visiting group of teachers from Brazi
 l!&lt;/p&gt;\n&lt;p&gt;&lt;/p&gt;\n&lt;p&gt;Join us in the Jim D. Morris Center from 6:00 - 8:30 
 pm&amp;nbsp\;&lt;/p&gt;&lt;/body&gt;&lt;/html&gt;
DTSTART;TZID=America/Chicago:20230203T180000
DTEND;TZID=America/Chicago:20230203T203000
SEQUENCE:0
URL:
CATEGORIES:Public,Alumni,Current Students,Faculty,Future Students,Staff
END:VEVENT
END:VCALENDAR