BEGIN:VCALENDAR
VERSION:2.0
METHOD:PUBLISH
PRODID:-//Missouri State University/Calendar of Events//EN
CALSCALE:GREGORIAN
X-WR-TIMEZONE:America/Chicago
BEGIN:VTIMEZONE
TZID:America/Chicago
BEGIN:DAYLIGHT
TZOFFSETFROM:-0600
TZOFFSETTO:-0500
DTSTART:20070311T020000
RRULE:FREQ=YEARLY;BYMONTH=3;BYDAY=2SU
TZNAME:CDT
END:DAYLIGHT
BEGIN:STANDARD
TZOFFSETFROM:-0500
TZOFFSETTO:-0600
DTSTART:20071104T020000
RRULE:FREQ=YEARLY;BYMONTH=11;BYDAY=1SU
TZNAME:CST
END:STANDARD
END:VTIMEZONE
BEGIN:VEVENT
UID:89e6e60b-a76a-4481-b0cf-23a4a6107745.225351@calendar.missouristate.edu
CREATED:20230203T024733Z
LAST-MODIFIED:20230203T024733Z
LOCATION:Plaster Student Union\, Robert W. 300E
SUMMARY:The Peace Corps + YOU
DESCRIPTION:Attend an informational session about the Peace Corps and Miss
 ouri State's Peace Corps Prep program. Hear from a panel made up of Misso
 uri State's faculty/staff who are returned Peace Corps volunteers\, as we
 ll as a roundtable discussion featuring local returned volunteers. Refres
 hments will be served. 
X-ALT-DESC;FMTTYPE=text/html:&lt;html&gt;&lt;head&gt;&lt;title&gt;&lt;/title&gt;&lt;/head&gt;&lt;body&gt;&lt;p&gt;At
 tend an informational session about the Peace Corps and Missouri State's 
 Peace Corps Prep program. Hear from a panel made up of Missouri State's f
 aculty/staff who are returned Peace Corps volunteers\, as well as a round
 table discussion featuring local returned volunteers. Refreshments will b
 e served.&amp;nbsp\;&lt;/p&gt;&lt;/body&gt;&lt;/html&gt;
DTSTART;TZID=America/Chicago:20230301T180000
DTEND;TZID=America/Chicago:20230301T193000
SEQUENCE:0
URL:https://soc-ant.missouristate.edu/PeaceCorpsPrep/news-and-events.htm
CATEGORIES:Current Students,Faculty,Staff
END:VEVENT
END:VCALENDAR