BEGIN:VCALENDAR
VERSION:2.0
METHOD:PUBLISH
PRODID:-//Missouri State University/Calendar of Events//EN
CALSCALE:GREGORIAN
X-WR-TIMEZONE:America/Chicago
BEGIN:VTIMEZONE
TZID:America/Chicago
BEGIN:DAYLIGHT
TZOFFSETFROM:-0600
TZOFFSETTO:-0500
DTSTART:20070311T020000
RRULE:FREQ=YEARLY;BYMONTH=3;BYDAY=2SU
TZNAME:CDT
END:DAYLIGHT
BEGIN:STANDARD
TZOFFSETFROM:-0500
TZOFFSETTO:-0600
DTSTART:20071104T020000
RRULE:FREQ=YEARLY;BYMONTH=11;BYDAY=1SU
TZNAME:CST
END:STANDARD
END:VTIMEZONE
BEGIN:VEVENT
UID:f8d6d2cd-66b8-4dfb-aca4-e2e243c9c305.225352@calendar.missouristate.edu
CREATED:20230202T214901Z
LAST-MODIFIED:20230202T214901Z
LOCATION:Recreation Center\, Bill R. Foster and Family
SUMMARY:Rec Sports Indoor Volleyball Registration Deadline
DESCRIPTION:Rec Sports is offering indoor volleyball. Registration closes 
 Feb. 8. \n\n\nMinimum roster is four people and play begins Feb. 13 on th
 e Bobby &amp; Allison Courts. 
X-ALT-DESC;FMTTYPE=text/html:&lt;html&gt;&lt;head&gt;&lt;title&gt;&lt;/title&gt;&lt;/head&gt;&lt;body&gt;&lt;p&gt;Re
 c Sports is offering indoor volleyball. Registration closes Feb. 8.&amp;nbsp\
 ;&lt;/p&gt;\n&lt;p&gt;Minimum roster is&amp;nbsp\;four people and play begins Feb. 13 on 
 the Bobby &amp;amp\; Allison Courts.&amp;nbsp\;&lt;/p&gt;&lt;/body&gt;&lt;/html&gt;
DTSTART;VALUE=DATE:20230208
DTEND;VALUE=DATE:20230209
SEQUENCE:0
URL:https://imleagues.com/spa/intramural/3d295ce891dc4c9caeb30a8f6bf2e674/
 home
CATEGORIES:Current Students,Faculty,Staff
END:VEVENT
END:VCALENDAR