BEGIN:VCALENDAR
VERSION:2.0
METHOD:PUBLISH
PRODID:-//Missouri State University/Calendar of Events//EN
CALSCALE:GREGORIAN
X-WR-TIMEZONE:America/Chicago
BEGIN:VTIMEZONE
TZID:America/Chicago
BEGIN:DAYLIGHT
TZOFFSETFROM:-0600
TZOFFSETTO:-0500
DTSTART:20070311T020000
RRULE:FREQ=YEARLY;BYMONTH=3;BYDAY=2SU
TZNAME:CDT
END:DAYLIGHT
BEGIN:STANDARD
TZOFFSETFROM:-0500
TZOFFSETTO:-0600
DTSTART:20071104T020000
RRULE:FREQ=YEARLY;BYMONTH=11;BYDAY=1SU
TZNAME:CST
END:STANDARD
END:VTIMEZONE
BEGIN:VEVENT
UID:563699f0-6860-402e-96de-3f592877c4a0.225367@calendar.missouristate.edu
CREATED:20230206T145404Z
LAST-MODIFIED:20230206T145404Z
LOCATION:Plaster Student Union\, Robert W. 315
SUMMARY:MSU LEAD On: Growth from Failure
DESCRIPTION:It’s in our nature to want to focus on our strengths and succe
 sses\, forgetting about our mistakes as quickly as possible. But what mig
 ht happen if we concentrated more often on our failures as an opportunity
  for growth? Focusing on failure may be particularly important for leader
 s\, both as a means of strengthening leadership skills and team performan
 ce. Learn to reframe your view of failure and understand how it can becom
 e part of your success!\n\n\nThe MSU LEAD ON workshops support continued 
 professional development in the supervisor training\, MSU LEAD OTHERS: Th
 e Supervisor Series. \n\n\nSponsored by HR - Organizational and Talent De
 velopment.
X-ALT-DESC;FMTTYPE=text/html:&lt;html&gt;&lt;head&gt;&lt;title&gt;&lt;/title&gt;&lt;/head&gt;&lt;body&gt;&lt;p&gt;It
 ’s in our nature to want to focus on our strengths and successes\, forget
 ting about our mistakes as quickly as possible. But what might happen if 
 we concentrated more often on our failures as an opportunity for growth? 
 Focusing on failure may be particularly important for leaders\, both as a
  means of strengthening leadership skills and team performance. Learn to 
 reframe your view of failure and understand how it can become part of you
 r success!&lt;/p&gt;\n&lt;p&gt;The&lt;strong&gt; MSU LEAD ON&lt;/strong&gt; workshops support con
 tinued professional development in the supervisor training\, &lt;strong&gt;MSU 
 LEAD OTHERS: The Supervisor Series.&amp;nbsp\;&lt;/strong&gt;&lt;/p&gt;\n&lt;p&gt;Sponsored by 
 HR - Organizational and Talent Development.&lt;/p&gt;\n&lt;p&gt;&lt;/p&gt;&lt;/body&gt;&lt;/html&gt;
DTSTART;TZID=America/Chicago:20230308T083000
DTEND;TZID=America/Chicago:20230308T113000
SEQUENCE:0
URL:https://blogs.missouristate.edu/human/
CATEGORIES:Faculty,Staff
END:VEVENT
END:VCALENDAR