BEGIN:VCALENDAR
VERSION:2.0
METHOD:PUBLISH
PRODID:-//Missouri State University/Calendar of Events//EN
CALSCALE:GREGORIAN
X-WR-TIMEZONE:America/Chicago
BEGIN:VTIMEZONE
TZID:America/Chicago
BEGIN:DAYLIGHT
TZOFFSETFROM:-0600
TZOFFSETTO:-0500
DTSTART:20070311T020000
RRULE:FREQ=YEARLY;BYMONTH=3;BYDAY=2SU
TZNAME:CDT
END:DAYLIGHT
BEGIN:STANDARD
TZOFFSETFROM:-0500
TZOFFSETTO:-0600
DTSTART:20071104T020000
RRULE:FREQ=YEARLY;BYMONTH=11;BYDAY=1SU
TZNAME:CST
END:STANDARD
END:VTIMEZONE
BEGIN:VEVENT
UID:d9401309-a005-4fc2-8ad4-bc7591316dd3.225368@calendar.missouristate.edu
CREATED:20230206T145423Z
LAST-MODIFIED:20230206T145423Z
LOCATION:Plaster Free Enterprise Center\, Robert W. 1000
SUMMARY:MSU LEAD Others: The Supervisor Series (Spring 2023)
DESCRIPTION:Supervisors play a critical role in advancing the mission of t
 he University. They have significant responsibilities in formulating and 
 administering policies and programs\, as well as managing people and proc
 esses. As Missouri State University endeavors to become the employer of c
 hoice\, developing leaders who are capable of shaping the future of the U
 niversity is essential.\n\n\nAdditional program notes:\n\n\nSupervisors i
 nterested in the program are strongly encouraged to check their schedules
  against ALL program dates before applying.\n\n\nProgram Dates:\n\n\nMar.
  24 – Session 1: Strengths-Based Leadership\n\n\nMar. 30 – Session 2: The
  Sensational Supervisor\n\n\nApr. 6 – Session 3:  Managing from the Middl
 e\n\n\nApr. 13 – Session 4: Effective Communication &amp; Meaningful Conversa
 tions\n\n\nApr. 20 – Session 5: Emotional Intelligence\n\n\nApr. 27 – Ses
 sion 6: Critical Thinking &amp; Problem-Solving\n\n\nMay 4 – Session 7: Perfo
 rmance Management Principles\n\n\nMay 11 – Session 8: Ethics &amp; Conflict R
 esolution\n\n\nMay 18 – Session 9: The Effective Leader
X-ALT-DESC;FMTTYPE=text/html:&lt;html&gt;&lt;head&gt;&lt;title&gt;&lt;/title&gt;&lt;/head&gt;&lt;body&gt;&lt;p&gt;Su
 pervisors play a critical role in advancing the mission of the University
 . They have significant responsibilities in formulating and administering
  policies and programs\, as well as managing people and processes. As Mis
 souri State University endeavors to become the employer of choice\, devel
 oping leaders who are capable of shaping the future of the University is 
 essential.&lt;/p&gt;\n&lt;p&gt;&lt;strong&gt;Additional program notes:&lt;/strong&gt;&lt;/p&gt;\n&lt;p&gt;&lt;st
 rong&gt;Supervisors&lt;/strong&gt; interested in the program are strongly encourag
 ed to check their schedules against &lt;strong&gt;ALL&lt;/strong&gt;&amp;nbsp\;program da
 tes before applying.&lt;/p&gt;\n&lt;p&gt;&lt;strong&gt;Program Dates:&lt;/strong&gt;&lt;/p&gt;\n&lt;p&gt;Mar.
  24 – Session 1: Strengths-Based Leadership&lt;/p&gt;\n&lt;p&gt;Mar. 30 – Session 2: 
 The Sensational Supervisor&lt;/p&gt;\n&lt;p&gt;Apr. 6 – Session 3:&amp;nbsp\; Managing fr
 om the Middle&lt;/p&gt;\n&lt;p&gt;Apr. 13 – Session 4: Effective Communication &amp;amp\;
  Meaningful Conversations&lt;/p&gt;\n&lt;p&gt;Apr. 20 – Session 5: Emotional Intellig
 ence&lt;/p&gt;\n&lt;p&gt;Apr. 27 – Session 6: Critical Thinking &amp;amp\; Problem-Solvin
 g&lt;/p&gt;\n&lt;p&gt;May 4 – Session 7: Performance Management Principles&lt;/p&gt;\n&lt;p&gt;Ma
 y 11 – Session 8: Ethics &amp;amp\; Conflict Resolution&lt;/p&gt;\n&lt;p&gt;May 18 – Sess
 ion 9: The Effective Leader&lt;/p&gt;&lt;/body&gt;&lt;/html&gt;
DTSTART;TZID=America/Chicago:20230324T080000
DTEND;TZID=America/Chicago:20230324T170000
SEQUENCE:0
URL:https://blogs.missouristate.edu/human/
CATEGORIES:Faculty,Staff
END:VEVENT
END:VCALENDAR