BEGIN:VCALENDAR
VERSION:2.0
METHOD:PUBLISH
PRODID:-//Missouri State University/Calendar of Events//EN
CALSCALE:GREGORIAN
X-WR-TIMEZONE:America/Chicago
BEGIN:VTIMEZONE
TZID:America/Chicago
BEGIN:DAYLIGHT
TZOFFSETFROM:-0600
TZOFFSETTO:-0500
DTSTART:20070311T020000
RRULE:FREQ=YEARLY;BYMONTH=3;BYDAY=2SU
TZNAME:CDT
END:DAYLIGHT
BEGIN:STANDARD
TZOFFSETFROM:-0500
TZOFFSETTO:-0600
DTSTART:20071104T020000
RRULE:FREQ=YEARLY;BYMONTH=11;BYDAY=1SU
TZNAME:CST
END:STANDARD
END:VTIMEZONE
BEGIN:VEVENT
UID:e9b11599-292b-4a1a-bb36-85c2d478560a.225377@calendar.missouristate.edu
CREATED:20230223T142920Z
LAST-MODIFIED:20230223T142920Z
LOCATION:Great Southern Bank Arena
SUMMARY:The Kid LAROI
DESCRIPTION:The Kid LAROI announces the official Bleed For You Tour\, his 
 first ever college tour with guest Jeremy Zucker.\n\n\nTickets on sale: F
 eb. 3 | 12 p.m.\n \nTicket prices: $32.50-$107.50 plus fees\n \nParking: 
 $15\n \nDoors open: 7 p.m.www.missouristatetix.com | 417-836-7678 | The O
 MB ticket windows located inside Great Southern Bank Arena
X-ALT-DESC;FMTTYPE=text/html:&lt;html&gt;&lt;head&gt;&lt;title&gt;&lt;/title&gt;&lt;/head&gt;&lt;body&gt;&lt;p&gt;Th
 e Kid LAROI announces the official Bleed For You Tour\, his first ever co
 llege tour with guest Jeremy Zucker.&lt;/p&gt;\n&lt;div&gt;Tickets on sale: Feb. 3 | 
 12 p.m.&lt;/div&gt;\n&lt;div&gt;&amp;nbsp\;&lt;/div&gt;\n&lt;div&gt;Ticket prices: $32.50-$107.50 plu
 s fees&lt;/div&gt;\n&lt;div&gt;&amp;nbsp\;&lt;/div&gt;\n&lt;div&gt;Parking: $15&lt;/div&gt;\n&lt;div&gt;&amp;nbsp\;&lt;/
 div&gt;\n&lt;div&gt;Doors open: 7 p.m.&lt;br&gt;&lt;br&gt;www.missouristatetix.com | 417-836-7
 678 | The OMB ticket windows located inside Great Southern Bank Arena&lt;/di
 v&gt;&lt;/body&gt;&lt;/html&gt;
DTSTART;TZID=America/Chicago:20230502T200000
DTEND;TZID=America/Chicago:20230502T230000
SEQUENCE:0
URL:http://www.greatsouthernbankarena.com
CATEGORIES:Public,Alumni,Current Students,Faculty,Future Students,Staff
END:VEVENT
END:VCALENDAR