BEGIN:VCALENDAR
VERSION:2.0
METHOD:PUBLISH
PRODID:-//Missouri State University/Calendar of Events//EN
CALSCALE:GREGORIAN
X-WR-TIMEZONE:America/Chicago
BEGIN:VTIMEZONE
TZID:America/Chicago
BEGIN:DAYLIGHT
TZOFFSETFROM:-0600
TZOFFSETTO:-0500
DTSTART:20070311T020000
RRULE:FREQ=YEARLY;BYMONTH=3;BYDAY=2SU
TZNAME:CDT
END:DAYLIGHT
BEGIN:STANDARD
TZOFFSETFROM:-0500
TZOFFSETTO:-0600
DTSTART:20071104T020000
RRULE:FREQ=YEARLY;BYMONTH=11;BYDAY=1SU
TZNAME:CST
END:STANDARD
END:VTIMEZONE
BEGIN:VEVENT
UID:d242c053-43ca-4bff-be3b-919de67541a9.226380@calendar.missouristate.edu
CREATED:20230206T184952Z
LAST-MODIFIED:20230206T184952Z
LOCATION:Plaster Student Union\, Robert W. MRC 101
SUMMARY:Multicultural Kahoot game night
DESCRIPTION:Compete in a fun Kahoot game night with us! Questions will inc
 lude pop culture\, current events\, trivia\, and more!
X-ALT-DESC;FMTTYPE=text/html:&lt;html&gt;&lt;head&gt;&lt;title&gt;&lt;/title&gt;&lt;/head&gt;&lt;body&gt;&lt;p&gt;Co
 mpete in a fun Kahoot game night with us! Questions will include pop cult
 ure\, current events\, trivia\, and more!&lt;/p&gt;&lt;/body&gt;&lt;/html&gt;
DTSTART;TZID=America/Chicago:20230221T180000
DTEND;TZID=America/Chicago:20230221T200000
SEQUENCE:0
URL:118180.jpg
CATEGORIES:Current Students
END:VEVENT
END:VCALENDAR