BEGIN:VCALENDAR
VERSION:2.0
METHOD:PUBLISH
PRODID:-//Missouri State University/Calendar of Events//EN
CALSCALE:GREGORIAN
X-WR-TIMEZONE:America/Chicago
BEGIN:VTIMEZONE
TZID:America/Chicago
BEGIN:DAYLIGHT
TZOFFSETFROM:-0600
TZOFFSETTO:-0500
DTSTART:20070311T020000
RRULE:FREQ=YEARLY;BYMONTH=3;BYDAY=2SU
TZNAME:CDT
END:DAYLIGHT
BEGIN:STANDARD
TZOFFSETFROM:-0500
TZOFFSETTO:-0600
DTSTART:20071104T020000
RRULE:FREQ=YEARLY;BYMONTH=11;BYDAY=1SU
TZNAME:CST
END:STANDARD
END:VTIMEZONE
BEGIN:VEVENT
UID:37d424e6-0dce-4028-9c02-75aa8d8eb775.226381@calendar.missouristate.edu
CREATED:20230206T185045Z
LAST-MODIFIED:20230206T185045Z
LOCATION:Plaster Student Union\, Robert W. Ballroom East
SUMMARY:Soul Train: A Night of Soul
DESCRIPTION:It's throwback night! Lets eat soul food\, listen to music\, a
 nd dance! Mimi's Soul Food will be catering!
X-ALT-DESC;FMTTYPE=text/html:&lt;html&gt;&lt;head&gt;&lt;title&gt;&lt;/title&gt;&lt;/head&gt;&lt;body&gt;&lt;p&gt;It
 's throwback night! Lets eat soul food\, listen to music\, and dance! Mim
 i's Soul Food will be catering!&lt;/p&gt;&lt;/body&gt;&lt;/html&gt;
DTSTART;TZID=America/Chicago:20230227T180000
DTEND;TZID=America/Chicago:20230227T200000
SEQUENCE:0
URL:118181.jpg
CATEGORIES:Public,Current Students,Faculty,Staff
END:VEVENT
END:VCALENDAR