BEGIN:VCALENDAR
VERSION:2.0
METHOD:PUBLISH
PRODID:-//Missouri State University/Calendar of Events//EN
CALSCALE:GREGORIAN
X-WR-TIMEZONE:America/Chicago
BEGIN:VTIMEZONE
TZID:America/Chicago
BEGIN:DAYLIGHT
TZOFFSETFROM:-0600
TZOFFSETTO:-0500
DTSTART:20070311T020000
RRULE:FREQ=YEARLY;BYMONTH=3;BYDAY=2SU
TZNAME:CDT
END:DAYLIGHT
BEGIN:STANDARD
TZOFFSETFROM:-0500
TZOFFSETTO:-0600
DTSTART:20071104T020000
RRULE:FREQ=YEARLY;BYMONTH=11;BYDAY=1SU
TZNAME:CST
END:STANDARD
END:VTIMEZONE
BEGIN:VEVENT
UID:f3996dcc-c0ca-47c0-bb3d-8a056f8478b7.226382@calendar.missouristate.edu
CREATED:20230206T185025Z
LAST-MODIFIED:20230206T185025Z
LOCATION:Plaster Student Union\, Robert W. MRC 101
SUMMARY:Diverse education Fair collab. w/SPS District
DESCRIPTION:Dr. Yvania Garcia-Puseteri\, Chief Equity &amp; Diversity Officer 
 from Springfield Public Schools\, will be discussing why you should enter
  into the field of education. This is a great learning experience for eve
 ryone including those interested in K-12 education and teaching!
X-ALT-DESC;FMTTYPE=text/html:&lt;html&gt;&lt;head&gt;&lt;title&gt;&lt;/title&gt;&lt;/head&gt;&lt;body&gt;&lt;p&gt;Dr
 . Yvania Garcia-Puseteri\, Chief Equity &amp;amp\; Diversity Officer from Spr
 ingfield Public Schools\, will be discussing why you should enter into th
 e field of education. This is a great learning experience for everyone in
 cluding those interested in K-12 education and teaching!&lt;/p&gt;&lt;/body&gt;&lt;/html&gt;
DTSTART;TZID=America/Chicago:20230302T160000
DTEND;TZID=America/Chicago:20230302T173000
SEQUENCE:0
URL:118182.jfif
CATEGORIES:Current Students
END:VEVENT
END:VCALENDAR