BEGIN:VCALENDAR
VERSION:2.0
METHOD:PUBLISH
PRODID:-//Missouri State University/Calendar of Events//EN
CALSCALE:GREGORIAN
X-WR-TIMEZONE:America/Chicago
BEGIN:VTIMEZONE
TZID:America/Chicago
BEGIN:DAYLIGHT
TZOFFSETFROM:-0600
TZOFFSETTO:-0500
DTSTART:20070311T020000
RRULE:FREQ=YEARLY;BYMONTH=3;BYDAY=2SU
TZNAME:CDT
END:DAYLIGHT
BEGIN:STANDARD
TZOFFSETFROM:-0500
TZOFFSETTO:-0600
DTSTART:20071104T020000
RRULE:FREQ=YEARLY;BYMONTH=11;BYDAY=1SU
TZNAME:CST
END:STANDARD
END:VTIMEZONE
BEGIN:VEVENT
UID:1964c725-8512-431b-98b1-66c0b9b01375.226383@calendar.missouristate.edu
CREATED:20230206T185004Z
LAST-MODIFIED:20230206T185004Z
LOCATION:Plaster Student Union\, Robert W. PSU Theater
SUMMARY:Women Success Stories Panel
DESCRIPTION:Dr. Kayla Lewis and Dr. Ashley Payne from Missouri State Unive
 rsity and Kyrstal Simon\, CEO of Care to Learn\, will speak on their expe
 riences of success as women.\n\n\nHappy Women's History Month!
X-ALT-DESC;FMTTYPE=text/html:&lt;html&gt;&lt;head&gt;&lt;title&gt;&lt;/title&gt;&lt;/head&gt;&lt;body&gt;&lt;p&gt;Dr
 . Kayla Lewis and Dr. Ashley Payne from Missouri State University and Kyr
 stal Simon\, CEO of Care to Learn\, will speak on their experiences of su
 ccess as women.&lt;/p&gt;\n&lt;p&gt;Happy Women's History Month!&lt;/p&gt;&lt;/body&gt;&lt;/html&gt;
DTSTART;TZID=America/Chicago:20230324T163000
DTEND;TZID=America/Chicago:20230324T180000
SEQUENCE:0
URL:118183.jpg
CATEGORIES:Public,Current Students,Faculty,Staff
END:VEVENT
END:VCALENDAR