BEGIN:VCALENDAR
VERSION:2.0
METHOD:PUBLISH
PRODID:-//Missouri State University/Calendar of Events//EN
CALSCALE:GREGORIAN
X-WR-TIMEZONE:America/Chicago
BEGIN:VTIMEZONE
TZID:America/Chicago
BEGIN:DAYLIGHT
TZOFFSETFROM:-0600
TZOFFSETTO:-0500
DTSTART:20070311T020000
RRULE:FREQ=YEARLY;BYMONTH=3;BYDAY=2SU
TZNAME:CDT
END:DAYLIGHT
BEGIN:STANDARD
TZOFFSETFROM:-0500
TZOFFSETTO:-0600
DTSTART:20071104T020000
RRULE:FREQ=YEARLY;BYMONTH=11;BYDAY=1SU
TZNAME:CST
END:STANDARD
END:VTIMEZONE
BEGIN:VEVENT
UID:9b4d67d1-3661-4867-8a78-3ae32d7985dd.226389@calendar.missouristate.edu
CREATED:20230206T194746Z
LAST-MODIFIED:20230206T194746Z
LOCATION:
SUMMARY:Computer Science Seminar - Dr. Filiz Bunyak
DESCRIPTION:Dr. Filiz Bunyak will present Next Generation Image Analytics 
 through AI/ML: Driving the Scientific Discovery in Life Sciences. \n\n\nI
 n this talk\, Dr. Bunyak will present a brief review of her interdiscipli
 nary efforts at University of Missouri towards development of quantitativ
 e image data analytics methods to promote evidence-based medicine and to 
 facilitate scientific understanding and discovery in life sciences. \n\n\
 nDr. Bunyak is an Assistant Research Professor of Computer Science at the
  University of Missouri-Columbia.\n\n\nZoom link:\n\n\nJoin Zoom Meeting 
 https://missouristate.zoom.us/j/93937299258?from=addonMeeting ID: 939 372
 9 9258\n\n\n 
X-ALT-DESC;FMTTYPE=text/html:&lt;html&gt;&lt;head&gt;&lt;title&gt;&lt;/title&gt;&lt;/head&gt;&lt;body&gt;&lt;p&gt;Dr
 . Filiz Bunyak will present Next Generation Image Analytics through AI/ML
 : Driving the Scientific Discovery in Life Sciences.&amp;nbsp\;&lt;/p&gt;\n&lt;p&gt;In th
 is talk\, Dr. Bunyak will present a brief review of her interdisciplinary
  efforts at University of Missouri towards development of quantitative im
 age data analytics methods to promote evidence-based medicine and to faci
 litate scientific understanding and discovery in life sciences.&amp;nbsp\;&lt;/p
 &gt;\n&lt;p&gt;Dr. Bunyak is an Assistant Research Professor of Computer Science a
 t the University of Missouri-Columbia.&lt;/p&gt;\n&lt;p&gt;&lt;span&gt;Zoom link:&lt;/span&gt;&lt;/p
 &gt;\n&lt;p&gt;&lt;span&gt;Join Zoom Meeting&lt;br&gt; &lt;a href="https://missouristate.zoom.us/
 j/93937299258?from=addon"&gt;https://missouristate.zoom.us/j/93937299258?fro
 m=addon&lt;/a&gt;&lt;br&gt;Meeting ID: 939 3729 9258&lt;/span&gt;&lt;span&gt;&lt;/span&gt;&lt;/p&gt;\n&lt;p&gt;&lt;spa
 n&gt;&amp;nbsp\;&lt;/span&gt;&lt;/p&gt;&lt;/body&gt;&lt;/html&gt;
DTSTART;TZID=America/Chicago:20230224T111500
DTEND;TZID=America/Chicago:20230224T120500
SEQUENCE:0
URL:
CATEGORIES:Current Students,Faculty,Staff
END:VEVENT
END:VCALENDAR