BEGIN:VCALENDAR
VERSION:2.0
METHOD:PUBLISH
PRODID:-//Missouri State University/Calendar of Events//EN
CALSCALE:GREGORIAN
X-WR-TIMEZONE:America/Chicago
BEGIN:VTIMEZONE
TZID:America/Chicago
BEGIN:DAYLIGHT
TZOFFSETFROM:-0600
TZOFFSETTO:-0500
DTSTART:20070311T020000
RRULE:FREQ=YEARLY;BYMONTH=3;BYDAY=2SU
TZNAME:CDT
END:DAYLIGHT
BEGIN:STANDARD
TZOFFSETFROM:-0500
TZOFFSETTO:-0600
DTSTART:20071104T020000
RRULE:FREQ=YEARLY;BYMONTH=11;BYDAY=1SU
TZNAME:CST
END:STANDARD
END:VTIMEZONE
BEGIN:VEVENT
UID:2fe836b6-b6dd-4aba-9b3c-bf1bdbe7f39b.227438@calendar.missouristate.edu
CREATED:20230208T211438Z
LAST-MODIFIED:20230208T211438Z
LOCATION:Recreation Center\, Bill R. Foster and Family Studio B
SUMMARY:Table Tennis Registration Deadline
DESCRIPTION:Play begins Feb. 26\n\n\nOpen league for minimum of one player
 . \n\n\nPlay will be in Studio B.
X-ALT-DESC;FMTTYPE=text/html:&lt;html&gt;&lt;head&gt;&lt;title&gt;&lt;/title&gt;&lt;/head&gt;&lt;body&gt;&lt;p&gt;Pl
 ay begins Feb. 26&lt;/p&gt;\n&lt;p&gt;Open league&amp;nbsp\;for minimum of one player.&amp;nb
 sp\;&lt;/p&gt;\n&lt;p&gt;Play will be in Studio B.&lt;/p&gt;&lt;/body&gt;&lt;/html&gt;
DTSTART;TZID=America/Chicago:20230222T000000
DTEND;TZID=America/Chicago:20230222T000000
SEQUENCE:0
URL:http://IMLeagues.com/mostate
CATEGORIES:Alumni,Current Students,Faculty
END:VEVENT
END:VCALENDAR