BEGIN:VCALENDAR
VERSION:2.0
METHOD:PUBLISH
PRODID:-//Missouri State University/Calendar of Events//EN
CALSCALE:GREGORIAN
X-WR-TIMEZONE:America/Chicago
BEGIN:VTIMEZONE
TZID:America/Chicago
BEGIN:DAYLIGHT
TZOFFSETFROM:-0600
TZOFFSETTO:-0500
DTSTART:20070311T020000
RRULE:FREQ=YEARLY;BYMONTH=3;BYDAY=2SU
TZNAME:CDT
END:DAYLIGHT
BEGIN:STANDARD
TZOFFSETFROM:-0500
TZOFFSETTO:-0600
DTSTART:20071104T020000
RRULE:FREQ=YEARLY;BYMONTH=11;BYDAY=1SU
TZNAME:CST
END:STANDARD
END:VTIMEZONE
BEGIN:VEVENT
UID:583c6aa3-c317-46ce-85bc-756d53173b15.227439@calendar.missouristate.edu
CREATED:20230216T221704Z
LAST-MODIFIED:20230216T221704Z
LOCATION:Plaster Student Union\, Robert W. 317
SUMMARY:Social Media &amp; Marketing Strategies
DESCRIPTION:We're all on social media\, but how can orgs best market their
  work? How can you increase your following on different platforms? All th
 ese questions (and more) will be answered at this session!
X-ALT-DESC;FMTTYPE=text/html:&lt;html&gt;&lt;head&gt;&lt;title&gt;&lt;/title&gt;&lt;/head&gt;&lt;body&gt;&lt;p&gt;&lt;s
 pan&gt;We're all on social media\, but how can orgs best market their work? 
 How can you increase your following on different platforms? All these que
 stions (and more) will be answered at this session!&lt;/span&gt;&lt;/p&gt;&lt;/body&gt;&lt;/ht
 ml&gt;
DTSTART;TZID=America/Chicago:20230227T143000
DTEND;TZID=America/Chicago:20230227T153000
SEQUENCE:0
URL:119206.png
CATEGORIES:Current Students,Faculty,Staff
END:VEVENT
END:VCALENDAR