BEGIN:VCALENDAR
VERSION:2.0
METHOD:PUBLISH
PRODID:-//Missouri State University/Calendar of Events//EN
CALSCALE:GREGORIAN
X-WR-TIMEZONE:America/Chicago
BEGIN:VTIMEZONE
TZID:America/Chicago
BEGIN:DAYLIGHT
TZOFFSETFROM:-0600
TZOFFSETTO:-0500
DTSTART:20070311T020000
RRULE:FREQ=YEARLY;BYMONTH=3;BYDAY=2SU
TZNAME:CDT
END:DAYLIGHT
BEGIN:STANDARD
TZOFFSETFROM:-0500
TZOFFSETTO:-0600
DTSTART:20071104T020000
RRULE:FREQ=YEARLY;BYMONTH=11;BYDAY=1SU
TZNAME:CST
END:STANDARD
END:VTIMEZONE
BEGIN:VEVENT
UID:6c6784a1-991e-4956-863e-3294738dde4c.227459@calendar.missouristate.edu
CREATED:20230210T061509Z
LAST-MODIFIED:20230210T061509Z
LOCATION:\, Betty &amp; Bobby Allison South Stadium
SUMMARY:Missouri State University Men's Soccer vs Missouri Valley College
DESCRIPTION:Missouri State University Men's Soccer plays Missouri Valley C
 ollege
X-ALT-DESC;FMTTYPE=text/html:&lt;html&gt;&lt;head&gt;&lt;title&gt;&lt;/title&gt;&lt;/head&gt;&lt;body&gt;Misso
 uri State University Men's Soccer plays Missouri Valley College&lt;/body&gt;&lt;/h
 tml&gt;
DTSTART;TZID=America/Chicago:20230325T120000
DTEND;TZID=America/Chicago:20230325T140000
SEQUENCE:0
URL:http://missouristatebears.com/index.aspx?path=msoc
CATEGORIES:Current Students,Future Students,Parents and Family,Alumni,
 Faculty,Staff,Community,Visitors,Athletics
END:VEVENT
END:VCALENDAR