BEGIN:VCALENDAR
VERSION:2.0
METHOD:PUBLISH
PRODID:-//Missouri State University/Calendar of Events//EN
CALSCALE:GREGORIAN
X-WR-TIMEZONE:America/Chicago
BEGIN:VTIMEZONE
TZID:America/Chicago
BEGIN:DAYLIGHT
TZOFFSETFROM:-0600
TZOFFSETTO:-0500
DTSTART:20070311T020000
RRULE:FREQ=YEARLY;BYMONTH=3;BYDAY=2SU
TZNAME:CDT
END:DAYLIGHT
BEGIN:STANDARD
TZOFFSETFROM:-0500
TZOFFSETTO:-0600
DTSTART:20071104T020000
RRULE:FREQ=YEARLY;BYMONTH=11;BYDAY=1SU
TZNAME:CST
END:STANDARD
END:VTIMEZONE
BEGIN:VEVENT
UID:16fb36d2-2c3b-49ae-a633-000ab97ac0dd.227484@calendar.missouristate.edu
CREATED:20230214T141305Z
LAST-MODIFIED:20230214T141305Z
LOCATION:Plaster Student Union\, Robert W. 313
SUMMARY:Sending Bears Abroad: Education Abroad for Advisors
DESCRIPTION:How do students choose a program abroad that's right for them?
  Is funding available? When is a good time for them to go? Can any major 
 do it\, even YOURS? Join Elizabeth Strong\, Amy Huff\, and Morgan Marler 
 for an Education Abroad table talk on all things study abroad. We’ll cove
 r the basics\, bust common myths\, and discuss how we can collaborate to 
 provide high-impact learning experiences for our students. Adventure is t
 he best way to learn!
X-ALT-DESC;FMTTYPE=text/html:&lt;html&gt;&lt;head&gt;&lt;title&gt;&lt;/title&gt;&lt;/head&gt;&lt;body&gt;&lt;p&gt;&lt;s
 pan&gt;&lt;span&gt;How do students choose a program abroad that's right for them? 
 Is funding available? When is a good time for them to go? Can any major d
 o it\, even YOURS? &lt;span&gt;Join Elizabeth Strong\, Amy Huff\, and Morgan Ma
 rler for an Education Abroad table talk&amp;nbsp\;on all things study abroad.
 &amp;nbsp\;&lt;/span&gt;We’ll cover the basics\, bust common myths\, and discuss ho
 w we can collaborate to provide high-impact learning experiences for our 
 students. Adventure is the best way to learn!&lt;/span&gt;&lt;/span&gt;&lt;span&gt;&lt;/span&gt;&lt;
 /p&gt;&lt;/body&gt;&lt;/html&gt;
DTSTART;TZID=America/Chicago:20230302T120000
DTEND;TZID=America/Chicago:20230302T130000
SEQUENCE:0
URL:https://www.missouristate.edu/advising/
CATEGORIES:Faculty,Staff
END:VEVENT
END:VCALENDAR