BEGIN:VCALENDAR
VERSION:2.0
METHOD:PUBLISH
PRODID:-//Missouri State University/Calendar of Events//EN
CALSCALE:GREGORIAN
X-WR-TIMEZONE:America/Chicago
BEGIN:VTIMEZONE
TZID:America/Chicago
BEGIN:DAYLIGHT
TZOFFSETFROM:-0600
TZOFFSETTO:-0500
DTSTART:20070311T020000
RRULE:FREQ=YEARLY;BYMONTH=3;BYDAY=2SU
TZNAME:CDT
END:DAYLIGHT
BEGIN:STANDARD
TZOFFSETFROM:-0500
TZOFFSETTO:-0600
DTSTART:20071104T020000
RRULE:FREQ=YEARLY;BYMONTH=11;BYDAY=1SU
TZNAME:CST
END:STANDARD
END:VTIMEZONE
BEGIN:VEVENT
UID:c66a5e3b-5d0a-4ea3-94da-4bc65eb57ac6.227487@calendar.missouristate.edu
CREATED:20230216T214610Z
LAST-MODIFIED:20230216T214610Z
LOCATION:Plaster Student Union\, Robert W. PSU 315
SUMMARY:Thriving in Higher Education
DESCRIPTION:Dr. Rabekah Stewart\, Dr. Stephen Spates\, Dr. Marjorie Shaver
 s will be sharing their expertise and experiences on their success in Hig
 her Education. 
X-ALT-DESC;FMTTYPE=text/html:&lt;html&gt;&lt;head&gt;&lt;title&gt;&lt;/title&gt;&lt;/head&gt;&lt;body&gt;&lt;p&gt;Dr
 . Rabekah Stewart\, Dr. Stephen Spates\, Dr. Marjorie Shavers will be sha
 ring their expertise and experiences on their success in Higher Education
 .&amp;nbsp\;&lt;/p&gt;&lt;/body&gt;&lt;/html&gt;
DTSTART;TZID=America/Chicago:20230228T110000
DTEND;TZID=America/Chicago:20230228T130000
SEQUENCE:1
URL:https://www.missouristate.edu/EVPProvost/BearBridge/
CATEGORIES:Faculty
END:VEVENT
END:VCALENDAR