BEGIN:VCALENDAR
VERSION:2.0
METHOD:PUBLISH
PRODID:-//Missouri State University/Calendar of Events//EN
CALSCALE:GREGORIAN
X-WR-TIMEZONE:America/Chicago
BEGIN:VTIMEZONE
TZID:America/Chicago
BEGIN:DAYLIGHT
TZOFFSETFROM:-0600
TZOFFSETTO:-0500
DTSTART:20070311T020000
RRULE:FREQ=YEARLY;BYMONTH=3;BYDAY=2SU
TZNAME:CDT
END:DAYLIGHT
BEGIN:STANDARD
TZOFFSETFROM:-0500
TZOFFSETTO:-0600
DTSTART:20071104T020000
RRULE:FREQ=YEARLY;BYMONTH=11;BYDAY=1SU
TZNAME:CST
END:STANDARD
END:VTIMEZONE
BEGIN:VEVENT
UID:8c9e1273-562f-4419-8b0d-8a3d2b7e3c6b.227496@calendar.missouristate.edu
CREATED:20230216T211129Z
LAST-MODIFIED:20230216T211129Z
LOCATION:Meyer Library\, Duane G. 101
SUMMARY:Chemistry &amp; Biochemistry Seminar: By Dr. Tiglet Besara\, "Flux Syn
 thesis: Breeding Ground for Discovery of Novel Intermetallics"
DESCRIPTION:Intermetallics are attractive due to their wide variety of pro
 perties\; superconductivity\, semiconductivity\, topology\, etc. Several 
 methods exist to grow new materials\, and we utilize one of them\, flux g
 rowth\, which produces naturally faceted crystals. In this talk\, I will 
 discuss the discovery of two different intermetallics with this method: S
 mMnBi2\, a candidate for topological semimetals\, and MM’2Zn20\, a candid
 ate for thermoelectric materials.\n\n\nIn topological materials\, the bul
 k is a bad conductor while the surface states are metallic with high mobi
 lity. The surface is also topologically protected\; basically meaning tha
 t impurities have no effect on the conductivity. A plethora of materials 
 have been discovered and I will talk about the growth and structure of Sm
 MnBi2 and compare it to similar compounds.\n\n\nThermoelectric materials 
 are appealing due their ability to directly convert between heat and elec
 tricity. The main issue is that the physical parameters to determine ther
 moelectric performance work against one another. For achieving the optimu
 m performance\, hindering lattice vibration by forming cage structures in
  which heavy atoms can rattle is a plausible way. I will talk about the g
 rowth and structure of cage-structured MM’2Zn20 compounds.
X-ALT-DESC;FMTTYPE=text/html:&lt;html&gt;&lt;head&gt;&lt;title&gt;&lt;/title&gt;&lt;/head&gt;&lt;body&gt;&lt;p&gt;In
 termetallics are attractive due to their wide variety of properties\; sup
 erconductivity\, semiconductivity\, topology\,&amp;nbsp\;&lt;i&gt;etc.&lt;/i&gt; Several 
 methods exist to grow new materials\, and we utilize one of them\, flux g
 rowth\, which produces naturally faceted crystals. In this talk\, I will 
 discuss the discovery of two different intermetallics with this method: S
 mMnBi&lt;sub&gt;2&lt;/sub&gt;\, a candidate for topological semimetals\, and MM’&lt;sub&gt;
 2&lt;/sub&gt;Zn&lt;sub&gt;20&lt;/sub&gt;\, a candidate for thermoelectric materials.&lt;/p&gt;\n&lt;
 p&gt;In topological materials\, the bulk is a bad conductor while the surfac
 e states are metallic with high mobility. The surface is also topological
 ly protected\; basically meaning that impurities have no effect on the co
 nductivity. A plethora of materials have been discovered and I will talk 
 about the growth and structure of SmMnBi&lt;sub&gt;2&lt;/sub&gt; and compare it to si
 milar compounds.&lt;/p&gt;\n&lt;p&gt;Thermoelectric materials are appealing due their
  ability to directly convert between heat and electricity. The main issue
  is that the physical parameters to determine thermoelectric performance 
 work against one another. For achieving the optimum performance\, hinderi
 ng lattice vibration by forming cage structures in which heavy atoms can 
 rattle is a plausible way. I will talk about the growth and structure of 
 cage-structured MM’&lt;sub&gt;2&lt;/sub&gt;Zn&lt;sub&gt;20&lt;/sub&gt; compounds.&lt;/p&gt;&lt;/body&gt;&lt;/htm
 l&gt;
DTSTART;TZID=America/Chicago:20230301T153500
DTEND;TZID=America/Chicago:20230301T162500
SEQUENCE:0
URL:https://chemistry.missouristate.edu/Seminars.htm
CATEGORIES:Public,Alumni,Current Students,Faculty,Future Students,Staff
END:VEVENT
END:VCALENDAR