BEGIN:VCALENDAR
VERSION:2.0
METHOD:PUBLISH
PRODID:-//Missouri State University/Calendar of Events//EN
CALSCALE:GREGORIAN
X-WR-TIMEZONE:America/Chicago
BEGIN:VTIMEZONE
TZID:America/Chicago
BEGIN:DAYLIGHT
TZOFFSETFROM:-0600
TZOFFSETTO:-0500
DTSTART:20070311T020000
RRULE:FREQ=YEARLY;BYMONTH=3;BYDAY=2SU
TZNAME:CDT
END:DAYLIGHT
BEGIN:STANDARD
TZOFFSETFROM:-0500
TZOFFSETTO:-0600
DTSTART:20071104T020000
RRULE:FREQ=YEARLY;BYMONTH=11;BYDAY=1SU
TZNAME:CST
END:STANDARD
END:VTIMEZONE
BEGIN:VEVENT
UID:4bd48b21-0091-4144-831c-772746d9a129.227513@calendar.missouristate.edu
CREATED:20230216T220535Z
LAST-MODIFIED:20230216T220535Z
LOCATION:Plaster Student Union\, Robert W. 317
SUMMARY:Passing the Torch: Transitions to the Next Exec Board
DESCRIPTION:We'll work together in this session to help ensure a feeling o
 f support for your new board and a sense of finality for your outgoing bo
 ard!
X-ALT-DESC;FMTTYPE=text/html:&lt;html&gt;&lt;head&gt;&lt;title&gt;&lt;/title&gt;&lt;/head&gt;&lt;body&gt;&lt;p&gt;&lt;s
 pan&gt;We'll work together in this session to help ensure a feeling of suppo
 rt for your new board and a sense of finality for your outgoing board!&lt;/s
 pan&gt;&lt;/p&gt;&lt;/body&gt;&lt;/html&gt;
DTSTART;TZID=America/Chicago:20230418T143000
DTEND;TZID=America/Chicago:20230418T153000
SEQUENCE:0
URL:119260.png
CATEGORIES:Current Students,Faculty,Staff
END:VEVENT
END:VCALENDAR