BEGIN:VCALENDAR
VERSION:2.0
METHOD:PUBLISH
PRODID:-//Missouri State University/Calendar of Events//EN
CALSCALE:GREGORIAN
X-WR-TIMEZONE:America/Chicago
BEGIN:VTIMEZONE
TZID:America/Chicago
BEGIN:DAYLIGHT
TZOFFSETFROM:-0600
TZOFFSETTO:-0500
DTSTART:20070311T020000
RRULE:FREQ=YEARLY;BYMONTH=3;BYDAY=2SU
TZNAME:CDT
END:DAYLIGHT
BEGIN:STANDARD
TZOFFSETFROM:-0500
TZOFFSETTO:-0600
DTSTART:20071104T020000
RRULE:FREQ=YEARLY;BYMONTH=11;BYDAY=1SU
TZNAME:CST
END:STANDARD
END:VTIMEZONE
BEGIN:VEVENT
UID:13ee7ef9-9b8c-4e76-938a-678059264c0a.227514@calendar.missouristate.edu
CREATED:20230217T154443Z
LAST-MODIFIED:20230217T154443Z
LOCATION:Plaster Student Union\, Robert W. PSU Theater
SUMMARY:Black Panther: Wakanda Forever
DESCRIPTION:Free Subway and prize drawing! 
X-ALT-DESC;FMTTYPE=text/html:&lt;html&gt;&lt;head&gt;&lt;title&gt;&lt;/title&gt;&lt;/head&gt;&lt;body&gt;&lt;p&gt;Fr
 ee Subway and prize drawing!&amp;nbsp\;&lt;/p&gt;&lt;/body&gt;&lt;/html&gt;
DTSTART;TZID=America/Chicago:20230222T180000
DTEND;TZID=America/Chicago:20230222T203000
SEQUENCE:0
URL:119261.jpg
CATEGORIES:Current Students,Faculty,Staff
END:VEVENT
END:VCALENDAR