BEGIN:VCALENDAR
VERSION:2.0
METHOD:PUBLISH
PRODID:-//Missouri State University/Calendar of Events//EN
CALSCALE:GREGORIAN
X-WR-TIMEZONE:America/Chicago
BEGIN:VTIMEZONE
TZID:America/Chicago
BEGIN:DAYLIGHT
TZOFFSETFROM:-0600
TZOFFSETTO:-0500
DTSTART:20070311T020000
RRULE:FREQ=YEARLY;BYMONTH=3;BYDAY=2SU
TZNAME:CDT
END:DAYLIGHT
BEGIN:STANDARD
TZOFFSETFROM:-0500
TZOFFSETTO:-0600
DTSTART:20071104T020000
RRULE:FREQ=YEARLY;BYMONTH=11;BYDAY=1SU
TZNAME:CST
END:STANDARD
END:VTIMEZONE
BEGIN:VEVENT
UID:0db12fe0-65d3-4cea-9a0d-9d465ec376a7.227515@calendar.missouristate.edu
CREATED:20230217T154425Z
LAST-MODIFIED:20230217T154425Z
LOCATION:Plaster Student Union\, Robert W. PSU Food Court
SUMMARY:Pot Painting Night
DESCRIPTION:Decorate and plant your own succulent! Snack on fresh fruit to
 o! 
X-ALT-DESC;FMTTYPE=text/html:&lt;html&gt;&lt;head&gt;&lt;title&gt;&lt;/title&gt;&lt;/head&gt;&lt;body&gt;&lt;p&gt;De
 corate and plant your own succulent! Snack on fresh fruit too!&amp;nbsp\;&lt;/p&gt;
 &lt;/body&gt;&lt;/html&gt;
DTSTART;TZID=America/Chicago:20230223T190000
DTEND;TZID=America/Chicago:20230223T220000
SEQUENCE:0
URL:119262.jpg
CATEGORIES:Current Students
END:VEVENT
END:VCALENDAR