BEGIN:VCALENDAR
VERSION:2.0
METHOD:PUBLISH
PRODID:-//Missouri State University/Calendar of Events//EN
CALSCALE:GREGORIAN
X-WR-TIMEZONE:America/Chicago
BEGIN:VTIMEZONE
TZID:America/Chicago
BEGIN:DAYLIGHT
TZOFFSETFROM:-0600
TZOFFSETTO:-0500
DTSTART:20070311T020000
RRULE:FREQ=YEARLY;BYMONTH=3;BYDAY=2SU
TZNAME:CDT
END:DAYLIGHT
BEGIN:STANDARD
TZOFFSETFROM:-0500
TZOFFSETTO:-0600
DTSTART:20071104T020000
RRULE:FREQ=YEARLY;BYMONTH=11;BYDAY=1SU
TZNAME:CST
END:STANDARD
END:VTIMEZONE
BEGIN:VEVENT
UID:b408c7a8-bf2b-4a27-88ff-fe20de8b5542.227518@calendar.missouristate.edu
CREATED:20230217T163507Z
LAST-MODIFIED:20230217T163507Z
LOCATION:Plaster Student Union\, Robert W. PSU Atrium\, Across from Bear N
 ecessities
SUMMARY:Internship Fair
DESCRIPTION:Enjoy free custom cups\, food\, and make connections with busi
 nesses offering internships! This is a co-program between SAC and the Car
 eer Center. 
X-ALT-DESC;FMTTYPE=text/html:&lt;html&gt;&lt;head&gt;&lt;title&gt;&lt;/title&gt;&lt;/head&gt;&lt;body&gt;&lt;p&gt;En
 joy free custom cups\, food\, and make connections with businesses offeri
 ng internships! This is a co-program between SAC and the Career Center.&amp;n
 bsp\;&lt;/p&gt;&lt;/body&gt;&lt;/html&gt;
DTSTART;TZID=America/Chicago:20230228T110000
DTEND;TZID=America/Chicago:20230228T140000
SEQUENCE:0
URL:119265.jpg
CATEGORIES:Current Students
END:VEVENT
END:VCALENDAR