BEGIN:VCALENDAR
VERSION:2.0
METHOD:PUBLISH
PRODID:-//Missouri State University/Calendar of Events//EN
CALSCALE:GREGORIAN
X-WR-TIMEZONE:America/Chicago
BEGIN:VTIMEZONE
TZID:America/Chicago
BEGIN:DAYLIGHT
TZOFFSETFROM:-0600
TZOFFSETTO:-0500
DTSTART:20070311T020000
RRULE:FREQ=YEARLY;BYMONTH=3;BYDAY=2SU
TZNAME:CDT
END:DAYLIGHT
BEGIN:STANDARD
TZOFFSETFROM:-0500
TZOFFSETTO:-0600
DTSTART:20071104T020000
RRULE:FREQ=YEARLY;BYMONTH=11;BYDAY=1SU
TZNAME:CST
END:STANDARD
END:VTIMEZONE
BEGIN:VEVENT
UID:f1ac256d-903b-4688-a08b-2715c9f3365b.227519@calendar.missouristate.edu
CREATED:20230217T151718Z
LAST-MODIFIED:20230217T151718Z
LOCATION:Plaster Student Union\, Robert W. PSU Theater
SUMMARY:SAC Film: The Truman Show
DESCRIPTION:Travel through the decades with SAC! Join us for this 90's cla
 ssic\, free food\, and a prize drawing!
X-ALT-DESC;FMTTYPE=text/html:&lt;html&gt;&lt;head&gt;&lt;title&gt;&lt;/title&gt;&lt;/head&gt;&lt;body&gt;&lt;p&gt;Tr
 avel through the decades with SAC! Join us for this 90's classic\, free f
 ood\, and a prize drawing!&lt;/p&gt;&lt;/body&gt;&lt;/html&gt;
DTSTART;TZID=America/Chicago:20230301T180000
DTEND;TZID=America/Chicago:20230301T203000
SEQUENCE:0
URL:119266.jpg
CATEGORIES:Current Students,Faculty,Staff
END:VEVENT
END:VCALENDAR