BEGIN:VCALENDAR
VERSION:2.0
METHOD:PUBLISH
PRODID:-//Missouri State University/Calendar of Events//EN
CALSCALE:GREGORIAN
X-WR-TIMEZONE:America/Chicago
BEGIN:VTIMEZONE
TZID:America/Chicago
BEGIN:DAYLIGHT
TZOFFSETFROM:-0600
TZOFFSETTO:-0500
DTSTART:20070311T020000
RRULE:FREQ=YEARLY;BYMONTH=3;BYDAY=2SU
TZNAME:CDT
END:DAYLIGHT
BEGIN:STANDARD
TZOFFSETFROM:-0500
TZOFFSETTO:-0600
DTSTART:20071104T020000
RRULE:FREQ=YEARLY;BYMONTH=11;BYDAY=1SU
TZNAME:CST
END:STANDARD
END:VTIMEZONE
BEGIN:VEVENT
UID:82261bf3-0198-4562-903f-b774d90bde88.227521@calendar.missouristate.edu
CREATED:20230217T154129Z
LAST-MODIFIED:20230217T154129Z
LOCATION:Plaster Student Union\, Robert W. PSU Theater
SUMMARY:Behind the Screen: Stephen Glickman
DESCRIPTION:Live Q &amp; A with Stephen Glickman!\n\n\nHear about life behind 
 the scenes on Big Time Rush and enter a drawing to win BTR merch or a spe
 aker.\n\n\nFree Krispy Kreme donuts provided! Bring your student BearPass
  to attend as seating is limited. 
X-ALT-DESC;FMTTYPE=text/html:&lt;html&gt;&lt;head&gt;&lt;title&gt;&lt;/title&gt;&lt;/head&gt;&lt;body&gt;&lt;p&gt;Li
 ve Q &amp;amp\; A with Stephen Glickman!&lt;/p&gt;\n&lt;p&gt;Hear about life behind the s
 cenes on Big Time Rush and enter a drawing to win BTR merch or a speaker.
 &lt;/p&gt;\n&lt;p&gt;Free Krispy Kreme donuts provided! Bring your student BearPass t
 o attend as seating is limited.&amp;nbsp\;&lt;/p&gt;&lt;/body&gt;&lt;/html&gt;
DTSTART;TZID=America/Chicago:20230306T190000
DTEND;TZID=America/Chicago:20230306T200000
SEQUENCE:0
URL:119268.jpg
CATEGORIES:Current Students
END:VEVENT
END:VCALENDAR