BEGIN:VCALENDAR
VERSION:2.0
METHOD:PUBLISH
PRODID:-//Missouri State University/Calendar of Events//EN
CALSCALE:GREGORIAN
X-WR-TIMEZONE:America/Chicago
BEGIN:VTIMEZONE
TZID:America/Chicago
BEGIN:DAYLIGHT
TZOFFSETFROM:-0600
TZOFFSETTO:-0500
DTSTART:20070311T020000
RRULE:FREQ=YEARLY;BYMONTH=3;BYDAY=2SU
TZNAME:CDT
END:DAYLIGHT
BEGIN:STANDARD
TZOFFSETFROM:-0500
TZOFFSETTO:-0600
DTSTART:20071104T020000
RRULE:FREQ=YEARLY;BYMONTH=11;BYDAY=1SU
TZNAME:CST
END:STANDARD
END:VTIMEZONE
BEGIN:VEVENT
UID:6aae6cf4-687a-420c-948b-dfca5f98c36b.227522@calendar.missouristate.edu
CREATED:20230217T165204Z
LAST-MODIFIED:20230217T165204Z
LOCATION:Plaster Student Union\, Robert W. PSU Atrium\, Across from Bear N
 ecessities
SUMMARY:National Flapjack Day
DESCRIPTION:Celebrate National Flapjack Day with the Student Activities Co
 uncil! Grab free pancakes before class while supplies last. 
X-ALT-DESC;FMTTYPE=text/html:&lt;html&gt;&lt;head&gt;&lt;title&gt;&lt;/title&gt;&lt;/head&gt;&lt;body&gt;&lt;p&gt;Ce
 lebrate National Flapjack Day with the Student Activities Council! Grab f
 ree pancakes before class while supplies last.&amp;nbsp\;&lt;/p&gt;&lt;/body&gt;&lt;/html&gt;
DTSTART;TZID=America/Chicago:20230307T090000
DTEND;TZID=America/Chicago:20230307T113000
SEQUENCE:0
URL:119269.jpg
CATEGORIES:Current Students
END:VEVENT
END:VCALENDAR