BEGIN:VCALENDAR
VERSION:2.0
METHOD:PUBLISH
PRODID:-//Missouri State University/Calendar of Events//EN
CALSCALE:GREGORIAN
X-WR-TIMEZONE:America/Chicago
BEGIN:VTIMEZONE
TZID:America/Chicago
BEGIN:DAYLIGHT
TZOFFSETFROM:-0600
TZOFFSETTO:-0500
DTSTART:20070311T020000
RRULE:FREQ=YEARLY;BYMONTH=3;BYDAY=2SU
TZNAME:CDT
END:DAYLIGHT
BEGIN:STANDARD
TZOFFSETFROM:-0500
TZOFFSETTO:-0600
DTSTART:20071104T020000
RRULE:FREQ=YEARLY;BYMONTH=11;BYDAY=1SU
TZNAME:CST
END:STANDARD
END:VTIMEZONE
BEGIN:VEVENT
UID:93a4be00-4559-406e-9562-197e903dbda1.227523@calendar.missouristate.edu
CREATED:20230217T170240Z
LAST-MODIFIED:20230217T170240Z
LOCATION:
SUMMARY:Bears on Ice
DESCRIPTION:Sign-ups required to enjoy a night of ice skating with the SAC
 !\n\n\nSAC Bears on Ice Sign Up \n\n\n- Bring your BearPass the day of!\n
 \n\n- Drive yourself there after confirmation or sign up for a ride. 
X-ALT-DESC;FMTTYPE=text/html:&lt;html&gt;&lt;head&gt;&lt;title&gt;&lt;/title&gt;&lt;/head&gt;&lt;body&gt;&lt;p&gt;Si
 gn-ups required to enjoy a night of ice skating with the SAC!&lt;/p&gt;\n&lt;p&gt;&lt;a 
 href="https://forms.office.com/Pages/ResponsePage.aspx?id=5DDYyk9VYUO65ch
 lIz-3fxgZJHcN-OdKs58Q_1-5mYZURDdHSzNENVkyV1dDODRMRFM1SDNBNUoyOS4u"&gt;SAC Be
 ars on Ice Sign Up&lt;/a&gt;&amp;nbsp\;&lt;/p&gt;\n&lt;p&gt;- Bring your BearPass the day of!&lt;/
 p&gt;\n&lt;p&gt;- Drive yourself there after confirmation or sign up for a ride.&amp;n
 bsp\;&lt;/p&gt;&lt;/body&gt;&lt;/html&gt;
DTSTART;TZID=America/Chicago:20230309T190000
DTEND;TZID=America/Chicago:20230309T210000
SEQUENCE:0
URL:119270.jpg
CATEGORIES:Current Students
END:VEVENT
END:VCALENDAR