BEGIN:VCALENDAR
VERSION:2.0
METHOD:PUBLISH
PRODID:-//Missouri State University/Calendar of Events//EN
CALSCALE:GREGORIAN
X-WR-TIMEZONE:America/Chicago
BEGIN:VTIMEZONE
TZID:America/Chicago
BEGIN:DAYLIGHT
TZOFFSETFROM:-0600
TZOFFSETTO:-0500
DTSTART:20070311T020000
RRULE:FREQ=YEARLY;BYMONTH=3;BYDAY=2SU
TZNAME:CDT
END:DAYLIGHT
BEGIN:STANDARD
TZOFFSETFROM:-0500
TZOFFSETTO:-0600
DTSTART:20071104T020000
RRULE:FREQ=YEARLY;BYMONTH=11;BYDAY=1SU
TZNAME:CST
END:STANDARD
END:VTIMEZONE
BEGIN:VEVENT
UID:c1cb3e22-e92c-4e2a-87cf-1d2feaaa1104.227524@calendar.missouristate.edu
CREATED:20230217T191426Z
LAST-MODIFIED:20230217T191426Z
LOCATION:Missouri State North Mall
SUMMARY:The Standard's annual Housing Expo
DESCRIPTION:Presented by The Standard\, MSU's student-run news organizatio
 n.\n\n\nRepresentatives from many property management companies will be o
 n hand to meet with students to talk about on- and off-campus housing opt
 ions for the upcoming school year. \n\n\nThe Housing Expo will take place
  on the North Mall\, by the Bear Statue next to the Plaster Student Union
 .\n\n\nIn the event of inclement weather\, the Housing Expo will be in th
 e atrium on Level 2 inside the Plaster Student Union.
X-ALT-DESC;FMTTYPE=text/html:&lt;html&gt;&lt;head&gt;&lt;title&gt;&lt;/title&gt;&lt;/head&gt;&lt;body&gt;&lt;p&gt;Pr
 esented by The Standard\, MSU's student-run news organization.&lt;/p&gt;\n&lt;p&gt;Re
 presentatives from many property management companies will be on hand to 
 meet with students to talk about on- and off-campus housing options for t
 he upcoming school year.&amp;nbsp\;&lt;/p&gt;\n&lt;p&gt;The Housing Expo will take place 
 on the North Mall\, by the Bear Statue next to the Plaster Student Union.
 &lt;/p&gt;\n&lt;p&gt;In the event of inclement weather\, the&amp;nbsp\;Housing Expo will 
 be in the atrium on Level 2 inside the Plaster Student Union.&lt;/p&gt;&lt;/body&gt;&lt;
 /html&gt;
DTSTART;TZID=America/Chicago:20230308T100000
DTEND;TZID=America/Chicago:20230308T140000
SEQUENCE:0
URL:https://www.the-standard.org/
CATEGORIES:Public,Current Students,Future Students
END:VEVENT
END:VCALENDAR