BEGIN:VCALENDAR
VERSION:2.0
METHOD:PUBLISH
PRODID:-//Missouri State University/Calendar of Events//EN
CALSCALE:GREGORIAN
X-WR-TIMEZONE:America/Chicago
BEGIN:VTIMEZONE
TZID:America/Chicago
BEGIN:DAYLIGHT
TZOFFSETFROM:-0600
TZOFFSETTO:-0500
DTSTART:20070311T020000
RRULE:FREQ=YEARLY;BYMONTH=3;BYDAY=2SU
TZNAME:CDT
END:DAYLIGHT
BEGIN:STANDARD
TZOFFSETFROM:-0500
TZOFFSETTO:-0600
DTSTART:20071104T020000
RRULE:FREQ=YEARLY;BYMONTH=11;BYDAY=1SU
TZNAME:CST
END:STANDARD
END:VTIMEZONE
BEGIN:VEVENT
UID:9c251ced-cfc2-4c75-9b92-4d093269fa91.227526@calendar.missouristate.edu
CREATED:20230221T144709Z
LAST-MODIFIED:20230221T144709Z
LOCATION:Recreation Center\, Bill R. Foster and Family Online
SUMMARY:Flag Football Registration Begins
DESCRIPTION:Come join us for some flag football! League has many oppurtuni
 ties for anyone wanting to play. \n\n\nMinimum Roster: 7\n\n\nRegistratio
 n ends on March 10th. \n\n\nPlay begins March 20th. 
X-ALT-DESC;FMTTYPE=text/html:&lt;html&gt;&lt;head&gt;&lt;title&gt;&lt;/title&gt;&lt;/head&gt;&lt;body&gt;&lt;p&gt;Co
 me join us for some flag football! League has many oppurtunities for anyo
 ne wanting to play.&amp;nbsp\;&lt;/p&gt;\n&lt;p&gt;Minimum Roster: 7&lt;/p&gt;\n&lt;p&gt;Registration
  ends on March 10th.&amp;nbsp\;&lt;/p&gt;\n&lt;p&gt;Play begins March 20th.&amp;nbsp\;&lt;/p&gt;&lt;/b
 ody&gt;&lt;/html&gt;
DTSTART;VALUE=DATE:20230227
DTEND;VALUE=DATE:20230228
SEQUENCE:0
URL:http://IMLeagues.com/mostate
CATEGORIES:Alumni,Current Students,Faculty,Staff
END:VEVENT
END:VCALENDAR