BEGIN:VCALENDAR
VERSION:2.0
METHOD:PUBLISH
PRODID:-//Missouri State University/Calendar of Events//EN
CALSCALE:GREGORIAN
X-WR-TIMEZONE:America/Chicago
BEGIN:VTIMEZONE
TZID:America/Chicago
BEGIN:DAYLIGHT
TZOFFSETFROM:-0600
TZOFFSETTO:-0500
DTSTART:20070311T020000
RRULE:FREQ=YEARLY;BYMONTH=3;BYDAY=2SU
TZNAME:CDT
END:DAYLIGHT
BEGIN:STANDARD
TZOFFSETFROM:-0500
TZOFFSETTO:-0600
DTSTART:20071104T020000
RRULE:FREQ=YEARLY;BYMONTH=11;BYDAY=1SU
TZNAME:CST
END:STANDARD
END:VTIMEZONE
BEGIN:VEVENT
UID:3725966f-26d5-4265-be3b-c126cfdc47be.227527@calendar.missouristate.edu
CREATED:20230221T145804Z
LAST-MODIFIED:20230221T145804Z
LOCATION:Recreation Center\, Bill R. Foster and Family Online
SUMMARY:4x4 Sand Volleyball Registration Deadline
DESCRIPTION:Today is the last day to register for 4x4 Sand Volleyball with
  Rec Sports. \n\n\nThere are many oppurtunites for anyone to play in our 
 many leagues. \n\n\nRoster Minimum: 4\n\n\nPlay begins March 20th at the 
 Bobby and Allison Rec Fields. 
X-ALT-DESC;FMTTYPE=text/html:&lt;html&gt;&lt;head&gt;&lt;title&gt;&lt;/title&gt;&lt;/head&gt;&lt;body&gt;&lt;p&gt;To
 day is the last day to register for 4x4 Sand Volleyball with Rec Sports.&amp;
 nbsp\;&lt;/p&gt;\n&lt;p&gt;There are many oppurtunites for anyone to play in our many
  leagues.&amp;nbsp\;&lt;/p&gt;\n&lt;p&gt;Roster Minimum: 4&lt;/p&gt;\n&lt;p&gt;Play begins March 20th
  at the Bobby and Allison Rec Fields.&amp;nbsp\;&lt;/p&gt;&lt;/body&gt;&lt;/html&gt;
DTSTART;VALUE=DATE:20230228
DTEND;VALUE=DATE:20230301
SEQUENCE:0
URL:http://IMLeagues.com/mostate
CATEGORIES:Alumni,Current Students,Faculty,Staff
END:VEVENT
END:VCALENDAR