BEGIN:VCALENDAR
VERSION:2.0
METHOD:PUBLISH
PRODID:-//Missouri State University/Calendar of Events//EN
CALSCALE:GREGORIAN
X-WR-TIMEZONE:America/Chicago
BEGIN:VTIMEZONE
TZID:America/Chicago
BEGIN:DAYLIGHT
TZOFFSETFROM:-0600
TZOFFSETTO:-0500
DTSTART:20070311T020000
RRULE:FREQ=YEARLY;BYMONTH=3;BYDAY=2SU
TZNAME:CDT
END:DAYLIGHT
BEGIN:STANDARD
TZOFFSETFROM:-0500
TZOFFSETTO:-0600
DTSTART:20071104T020000
RRULE:FREQ=YEARLY;BYMONTH=11;BYDAY=1SU
TZNAME:CST
END:STANDARD
END:VTIMEZONE
BEGIN:VEVENT
UID:235eb5f4-3918-4578-89e0-b7a45caac477.227528@calendar.missouristate.edu
CREATED:20230221T151653Z
LAST-MODIFIED:20230221T151653Z
LOCATION:Recreation Center\, Bill R. Foster and Family Online
SUMMARY:7v7 Soccer Registration Begins
DESCRIPTION:Lets play some soccer! Registration begins today to play 7v7 s
 occer through the Foster Recreation Center. We have many league opportuni
 ties for everyone to play.\n\n\nRegistration ends March 10th.\n\n\nRoster
  Minimum: 7 \n\n\nPlay begins March 20th at the Bobby and Allison Rec Fie
 lds 
X-ALT-DESC;FMTTYPE=text/html:&lt;html&gt;&lt;head&gt;&lt;title&gt;&lt;/title&gt;&lt;/head&gt;&lt;body&gt;&lt;p&gt;Le
 ts play some soccer! Registration begins today to play 7v7 soccer through
  the Foster Recreation Center. We have many league opportunities for ever
 yone to play.&lt;/p&gt;\n&lt;p&gt;Registration ends March 10th.&lt;/p&gt;\n&lt;p&gt;Roster Minimu
 m: 7&amp;nbsp\;&lt;/p&gt;\n&lt;p&gt;Play begins March 20th at the Bobby and Allison Rec F
 ields&amp;nbsp\;&lt;/p&gt;&lt;/body&gt;&lt;/html&gt;
DTSTART;VALUE=DATE:20230227
DTEND;VALUE=DATE:20230228
SEQUENCE:0
URL:http://IMLeagues.com/mostate
CATEGORIES:Alumni,Current Students,Faculty,Staff
END:VEVENT
END:VCALENDAR