BEGIN:VCALENDAR
VERSION:2.0
METHOD:PUBLISH
PRODID:-//Missouri State University/Calendar of Events//EN
CALSCALE:GREGORIAN
X-WR-TIMEZONE:America/Chicago
BEGIN:VTIMEZONE
TZID:America/Chicago
BEGIN:DAYLIGHT
TZOFFSETFROM:-0600
TZOFFSETTO:-0500
DTSTART:20070311T020000
RRULE:FREQ=YEARLY;BYMONTH=3;BYDAY=2SU
TZNAME:CDT
END:DAYLIGHT
BEGIN:STANDARD
TZOFFSETFROM:-0500
TZOFFSETTO:-0600
DTSTART:20071104T020000
RRULE:FREQ=YEARLY;BYMONTH=11;BYDAY=1SU
TZNAME:CST
END:STANDARD
END:VTIMEZONE
BEGIN:VEVENT
UID:92ed4f28-11fb-494e-855c-cf715b4191cb.227529@calendar.missouristate.edu
CREATED:20230221T152154Z
LAST-MODIFIED:20230221T152154Z
LOCATION:Recreation Center\, Bill R. Foster and Family Online
SUMMARY:7v7 Soccer Registration Ends
DESCRIPTION:Today is the last day to register for 7v7 Soccer. \n\n\nRoster
  Minimum: 7\n\n\nPlay begins March 20th at the Bobby and Allison Rec Fiel
 ds. 
X-ALT-DESC;FMTTYPE=text/html:&lt;html&gt;&lt;head&gt;&lt;title&gt;&lt;/title&gt;&lt;/head&gt;&lt;body&gt;&lt;p&gt;To
 day is the last day to register for 7v7 Soccer.&amp;nbsp\;&lt;/p&gt;\n&lt;p&gt;Roster Min
 imum: 7&lt;/p&gt;\n&lt;p&gt;Play begins March 20th at the Bobby and Allison Rec Field
 s.&amp;nbsp\;&lt;/p&gt;&lt;/body&gt;&lt;/html&gt;
DTSTART;VALUE=DATE:20230310
DTEND;VALUE=DATE:20230311
SEQUENCE:0
URL:http://IMLeagues.com/mostate
CATEGORIES:Alumni,Current Students,Faculty,Staff
END:VEVENT
END:VCALENDAR