BEGIN:VCALENDAR
VERSION:2.0
METHOD:PUBLISH
PRODID:-//Missouri State University/Calendar of Events//EN
CALSCALE:GREGORIAN
X-WR-TIMEZONE:America/Chicago
BEGIN:VTIMEZONE
TZID:America/Chicago
BEGIN:DAYLIGHT
TZOFFSETFROM:-0600
TZOFFSETTO:-0500
DTSTART:20070311T020000
RRULE:FREQ=YEARLY;BYMONTH=3;BYDAY=2SU
TZNAME:CDT
END:DAYLIGHT
BEGIN:STANDARD
TZOFFSETFROM:-0500
TZOFFSETTO:-0600
DTSTART:20071104T020000
RRULE:FREQ=YEARLY;BYMONTH=11;BYDAY=1SU
TZNAME:CST
END:STANDARD
END:VTIMEZONE
BEGIN:VEVENT
UID:1daa9f44-4606-44e0-a638-90c554e07ba2.227549@calendar.missouristate.edu
CREATED:20230222T143608Z
LAST-MODIFIED:20230222T143608Z
LOCATION:Glass Hall\, David D. 486
SUMMARY:2023 Women Faculty Success Conference
DESCRIPTION:This half-day conference will empower women faculty with pract
 ical approaches to research\, teaching\, and service that enhance student
  and faculty success.\n\n\nPresentations by Dr. Stacey Litam from Clevela
 nd State University on increasing scholarly productivity and Dr. Kelly Pa
 ge Werder from the University of South Florida on how she leveraged servi
 ce-learning as part of promotion and tenure.\n\n\nPlease register via My 
 Learning Connection no later than March 27 at 12 p.m.
X-ALT-DESC;FMTTYPE=text/html:&lt;html&gt;&lt;head&gt;&lt;title&gt;&lt;/title&gt;&lt;/head&gt;&lt;body&gt;&lt;p&gt;&lt;s
 pan&gt;&lt;span&gt;This half-day conference will empower women faculty with practi
 cal approaches to research\, teaching\, and service that enhance student 
 and faculty success.&lt;/span&gt;&lt;/span&gt;&lt;/p&gt;\n&lt;p&gt;&lt;span&gt;&lt;span&gt;Presentations&amp;nbsp
 \;&lt;/span&gt;&lt;/span&gt;&lt;span&gt;&lt;span&gt;by Dr. Stacey Litam from Cleveland State Univ
 ersity&amp;nbsp\;&lt;/span&gt;&lt;/span&gt;&lt;span&gt;&lt;span&gt;&lt;span&gt;on increasing scholarly prod
 uctivity and Dr. Kelly Page Werder from the University of South Florida o
 n how she leveraged service-learning as part of promotion and tenure.&lt;/sp
 an&gt;&lt;/span&gt;&lt;/span&gt;&lt;span&gt;&lt;/span&gt;&lt;/p&gt;\n&lt;p&gt;&lt;span&gt;&lt;span&gt;&lt;span&gt;Please register 
 via My Learning Connection &lt;strong&gt;no later than March 27 at&amp;nbsp\;12 p.m
 .&lt;/strong&gt;&lt;/span&gt;&lt;/span&gt;&lt;/span&gt;&lt;/p&gt;&lt;/body&gt;&lt;/html&gt;
DTSTART;TZID=America/Chicago:20230331T090000
DTEND;TZID=America/Chicago:20230331T140000
SEQUENCE:0
URL:
CATEGORIES:Faculty
END:VEVENT
END:VCALENDAR