BEGIN:VCALENDAR
VERSION:2.0
METHOD:PUBLISH
PRODID:-//Missouri State University/Calendar of Events//EN
CALSCALE:GREGORIAN
X-WR-TIMEZONE:America/Chicago
BEGIN:VTIMEZONE
TZID:America/Chicago
BEGIN:DAYLIGHT
TZOFFSETFROM:-0600
TZOFFSETTO:-0500
DTSTART:20070311T020000
RRULE:FREQ=YEARLY;BYMONTH=3;BYDAY=2SU
TZNAME:CDT
END:DAYLIGHT
BEGIN:STANDARD
TZOFFSETFROM:-0500
TZOFFSETTO:-0600
DTSTART:20071104T020000
RRULE:FREQ=YEARLY;BYMONTH=11;BYDAY=1SU
TZNAME:CST
END:STANDARD
END:VTIMEZONE
BEGIN:VEVENT
UID:e00e665d-db9e-46c8-8c5c-61744b34ff45.227696@calendar.missouristate.edu
CREATED:20230222T224315Z
LAST-MODIFIED:20230222T224315Z
LOCATION:Plaster Student Union\, Robert W. Ballroom
SUMMARY:CNAS Undergraduate Research Symposium
DESCRIPTION:All current CNAS undergraduate students and December 2022 grad
 uates are invited to submit a poster for the CNAS Undergraduate Research 
 Symposium.\n\n\nPresentations are refereed\, and awards will be given for
  first place ($100) and second place ($50) for each CNAS department and t
 he cooperative engineering program.\n\n\nContact your advisor for abstrac
 t submission instructions information.\n\n\nJudging: Will take place Apri
 l 28\, noon-1:30 p.m.\n\n\nOpen to campus and the public: 1:45-3:15 p.m.\
 n\n\nAwards ceremony: 3:30 p.m. with guest speaker\, Dr. Steven Senger\, 
 associate professor\, Mathematics
X-ALT-DESC;FMTTYPE=text/html:&lt;html&gt;&lt;head&gt;&lt;title&gt;&lt;/title&gt;&lt;/head&gt;&lt;body&gt;&lt;p ta
 bindex="-1"&gt;All current CNAS undergraduate students and December 2022&amp;nbs
 p\;graduates are invited to submit a poster for the CNAS Undergraduate Re
 search Symposium.&lt;/p&gt;\n&lt;p tabindex="-1"&gt;Presentations are refereed\, and 
 awards will be given for &lt;strong tabindex="-1"&gt;first place ($100) and sec
 ond place ($50)&lt;/strong&gt; for each CNAS department and the cooperative eng
 ineering program.&lt;/p&gt;\n&lt;p&gt;Contact your advisor for abstract submission in
 structions information.&lt;/p&gt;\n&lt;p tabindex="-1"&gt;&lt;strong tabindex="-1"&gt;Judgi
 ng&lt;/strong&gt;: Will take place April 28\, noon-1:30 p.m.&lt;/p&gt;\n&lt;p tabindex="
 -1"&gt;&lt;strong tabindex="-1"&gt;Open to campus and the public&lt;/strong&gt;: 1:45-3:
 15 p.m.&lt;/p&gt;\n&lt;p tabindex="-1"&gt;&lt;strong tabindex="-1"&gt;Awards ceremony&lt;/stro
 ng&gt;: 3:30 p.m. with guest speaker\, Dr. Steven Senger\, associate profess
 or\, Mathematics&lt;/p&gt;&lt;/body&gt;&lt;/html&gt;
DTSTART;TZID=America/Chicago:20230428T120000
DTEND;TZID=America/Chicago:20230428T160000
SEQUENCE:0
URL:https://science.missouristate.edu/Undergraduate-Research-Day.htm
CATEGORIES:Public,Current Students,Faculty,Future Students,Staff
END:VEVENT
END:VCALENDAR