BEGIN:VCALENDAR
VERSION:2.0
METHOD:PUBLISH
PRODID:-//Missouri State University/Calendar of Events//EN
CALSCALE:GREGORIAN
X-WR-TIMEZONE:America/Chicago
BEGIN:VTIMEZONE
TZID:America/Chicago
BEGIN:DAYLIGHT
TZOFFSETFROM:-0600
TZOFFSETTO:-0500
DTSTART:20070311T020000
RRULE:FREQ=YEARLY;BYMONTH=3;BYDAY=2SU
TZNAME:CDT
END:DAYLIGHT
BEGIN:STANDARD
TZOFFSETFROM:-0500
TZOFFSETTO:-0600
DTSTART:20071104T020000
RRULE:FREQ=YEARLY;BYMONTH=11;BYDAY=1SU
TZNAME:CST
END:STANDARD
END:VTIMEZONE
BEGIN:VEVENT
UID:61b7a0b0-d287-49f2-9693-c8bab11edcc8.227697@calendar.missouristate.edu
CREATED:20230406T230132Z
LAST-MODIFIED:20230406T230132Z
LOCATION:Plaster Free Enterprise Center\, Robert W.
SUMMARY:Excelling as an Administrative Professional
DESCRIPTION:Understand and grow your value as an administrative profession
 al. Administrative professionals often underestimate their impact\, despi
 te being incredibly valuable leaders within their organization. With ever
 -changing technology and organizational climates\, expectations are incre
 asing in job responsibilities and job performance for administrative prof
 essionals. \n\n\nThis seminar will help administrative professionals get 
 better results\, reduce stress\, impact the bottom line\, manage relation
 ships\, set goals\, increase appreciation and so much more. Build on your
  foundation with management principles to take your work to the next leve
 l and learn how to know and grow your value in this dynamic profession.
X-ALT-DESC;FMTTYPE=text/html:&lt;html&gt;&lt;head&gt;&lt;title&gt;&lt;/title&gt;&lt;/head&gt;&lt;body&gt;&lt;p&gt;&lt;s
 pan&gt;Understand and grow your value as an administrative professional. Adm
 inistrative professionals often underestimate their impact\, despite bein
 g incredibly valuable leaders within their organization. With ever-changi
 ng technology and organizational climates\, expectations are increasing i
 n job responsibilities and job performance for administrative professiona
 ls. &lt;/span&gt;&lt;/p&gt;\n&lt;p&gt;&lt;span&gt;This seminar will help administrative professio
 nals get better results\, reduce stress\, impact the bottom line\, manage
  relationships\, set goals\, increase appreciation and so much more. Buil
 d on your foundation with management principles to take your work to the 
 next level and learn how to know and grow your value in this dynamic prof
 ession.&lt;/span&gt;&lt;/p&gt;&lt;/body&gt;&lt;/html&gt;
DTSTART;TZID=America/Chicago:20230510T090000
DTEND;TZID=America/Chicago:20230510T160000
SEQUENCE:0
URL:https://efactory.missouristate.edu/training-calendar/
CATEGORIES:Public
END:VEVENT
END:VCALENDAR